BEGIN:VCALENDAR
VERSION:2.0
PRODID:spatie/icalendar-generator
DESCRIPTION:Events from Families Helping Families of Greater New Orleans
X-WR-CALDESC:Events from Families Helping Families of Greater New Orleans
REFRESH-INTERVAL;VALUE=DURATION:PT1440M
X-PUBLISHED-TTL:PT1440M
BEGIN:VTIMEZONE
TZID:America/Chicago
BEGIN:STANDARD
DTSTART:20251102T020000Z
TZOFFSETFROM:-0500
TZOFFSETTO:-0600
END:STANDARD
BEGIN:DAYLIGHT
DTSTART:20260308T020000Z
TZOFFSETFROM:-0600
TZOFFSETTO:-0500
END:DAYLIGHT
END:VTIMEZONE
BEGIN:VTIMEZONE
TZID:UTC
BEGIN:STANDARD
DTSTART:20250727T113039Z
TZOFFSETFROM:+0000
TZOFFSETTO:+0000
END:STANDARD
END:VTIMEZONE
BEGIN:VEVENT
UID:1832-1683
DTSTAMP:20260423T113039Z
SUMMARY:Your Rights in Special Education
LOCATION:
ORGANIZER;CN=Liz Dumas:MAILTO:ldumas@fhfjefferson.org
DTSTART;TZID=America/Chicago:20260303T130000
DTEND;TZID=America/Chicago:20260303T140000
X-ALT-DESC;FMTTYPE=TEXT/HTML:Your Rights in Special Education - Join us as
  we discuss the rights that parents and students have when it comes to spe
 cial education and related services\, such as parental participation\, acc
 ess to education records\, informed consent\, prior written notice\, your 
 right to disagree with school\, and more. Venue: Zoom Webinar Presenter: M
 aryury Templet/Karen Scallan\, FHF&amp;hellip\;
CATEGORIES:Trainings
URL;VALUE=URI:https://fhfofgno.org/mc-events/your-rights-in-special-educati
 on-3?mc_id=1832
END:VEVENT
END:VCALENDAR