BEGIN:VCALENDAR
VERSION:2.0
PRODID:spatie/icalendar-generator
DESCRIPTION:Events from Families Helping Families of Greater New Orleans
X-WR-CALDESC:Events from Families Helping Families of Greater New Orleans
REFRESH-INTERVAL;VALUE=DURATION:PT1440M
X-PUBLISHED-TTL:PT1440M
BEGIN:VTIMEZONE
TZID:America/Chicago
BEGIN:STANDARD
DTSTART:20151101T020000Z
TZOFFSETFROM:-0500
TZOFFSETTO:-0600
END:STANDARD
BEGIN:DAYLIGHT
DTSTART:20160313T020000Z
TZOFFSETFROM:-0600
TZOFFSETTO:-0500
END:DAYLIGHT
BEGIN:STANDARD
DTSTART:20161106T020000Z
TZOFFSETFROM:-0500
TZOFFSETTO:-0600
END:STANDARD
END:VTIMEZONE
BEGIN:VTIMEZONE
TZID:UTC
BEGIN:STANDARD
DTSTART:20250727T115341Z
TZOFFSETFROM:+0000
TZOFFSETTO:+0000
END:STANDARD
END:VTIMEZONE
BEGIN:VEVENT
UID:197-155
DTSTAMP:20260423T115341Z
SUMMARY:Who Writes Next Year's IEP? Parent Participation
LOCATION:
ORGANIZER;CN=Liz Dumas:MAILTO:ldumas@fhfjefferson.org
DTSTART;TZID=America/Chicago:20160629T130000
DTEND;TZID=America/Chicago:20160629T140000
X-ALT-DESC;FMTTYPE=TEXT/HTML:Who Writes Next Year's IEP? Parent Participati
 on:  One of IDEA’s foundational principles is the right of parents to p
 articipate in educational decision making regarding their child with a dis
 ability. The law is very specific about what school systems must do to ens
 ure that parents have the opportunity to participate\, if they so choose.
   An overview&amp;hellip\;
CATEGORIES:Trainings
URL;VALUE=URI:https://fhfofgno.org/mc-events/who-writes-next-years-iep-pare
 nt-participation-2?mc_id=197
END:VEVENT
END:VCALENDAR