BEGIN:VCALENDAR
VERSION:2.0
PRODID:spatie/icalendar-generator
DESCRIPTION:Events from Families Helping Families of Greater New Orleans
X-WR-CALDESC:Events from Families Helping Families of Greater New Orleans
REFRESH-INTERVAL;VALUE=DURATION:PT1440M
X-PUBLISHED-TTL:PT1440M
BEGIN:VTIMEZONE
TZID:America/Chicago
BEGIN:STANDARD
DTSTART:20181104T020000Z
TZOFFSETFROM:-0500
TZOFFSETTO:-0600
END:STANDARD
BEGIN:DAYLIGHT
DTSTART:20190310T020000Z
TZOFFSETFROM:-0600
TZOFFSETTO:-0500
END:DAYLIGHT
END:VTIMEZONE
BEGIN:VTIMEZONE
TZID:UTC
BEGIN:STANDARD
DTSTART:20250726T171210Z
TZOFFSETFROM:+0000
TZOFFSETTO:+0000
END:STANDARD
END:VTIMEZONE
BEGIN:VEVENT
UID:737-641
DTSTAMP:20260422T171210Z
SUMMARY:Who Needs a Surrogate Parent
LOCATION:
ORGANIZER;CN=Liz Dumas:MAILTO:ldumas@fhfjefferson.org
DTSTART;TZID=America/Chicago:20190425T110000
DTEND;TZID=America/Chicago:20190425T120000
X-ALT-DESC;FMTTYPE=TEXT/HTML:Who Needs a Surrogate Parent - The Individuals
  with Disabilities Education Act (IDEA) gives parents of children with dis
 abilities an active role in planning their child’s educational programs 
 and decision making.  However\, sometimes the parent is not available and
  IDEA allows for a surrogate parent to fill this very important role.  Th
 is training will go&amp;hellip\;
CATEGORIES:Trainings
URL;VALUE=URI:https://fhfofgno.org/mc-events/who-needs-a-surrogate-parent-2
 ?mc_id=737
END:VEVENT
END:VCALENDAR