BEGIN:VCALENDAR
VERSION:2.0
PRODID:spatie/icalendar-generator
DESCRIPTION:Events from Families Helping Families of Greater New Orleans
X-WR-CALDESC:Events from Families Helping Families of Greater New Orleans
REFRESH-INTERVAL;VALUE=DURATION:PT1440M
X-PUBLISHED-TTL:PT1440M
BEGIN:VTIMEZONE
TZID:America/Chicago
BEGIN:STANDARD
DTSTART:20151101T020000Z
TZOFFSETFROM:-0500
TZOFFSETTO:-0600
END:STANDARD
BEGIN:DAYLIGHT
DTSTART:20160313T020000Z
TZOFFSETFROM:-0600
TZOFFSETTO:-0500
END:DAYLIGHT
END:VTIMEZONE
BEGIN:VTIMEZONE
TZID:UTC
BEGIN:STANDARD
DTSTART:20250725T113226Z
TZOFFSETFROM:+0000
TZOFFSETTO:+0000
END:STANDARD
END:VTIMEZONE
BEGIN:VEVENT
UID:178-138
DTSTAMP:20260421T113226Z
SUMMARY:What's the Law Require of Schools? School Discipline and Expulsion
LOCATION:Rosa F. Keller Library &amp; Community Center 4300 S. Broad  New Orlea
 ns LA
ORGANIZER;CN=Liz Dumas:MAILTO:ldumas@fhfjefferson.org
DTSTART;TZID=America/Chicago:20160413T103000
DTEND;TZID=America/Chicago:20160413T123000
X-ALT-DESC;FMTTYPE=TEXT/HTML:To register\, call: 504-888-9111 or toll free 
 1-800-766-7736 Click the link below to register online!
CATEGORIES:Office Closure
URL;VALUE=URI:https://fhfofgno.org/mc-events/whats-the-law-require-of-schoo
 ls-school-discipline-and-expulsion?mc_id=178
END:VEVENT
END:VCALENDAR