BEGIN:VCALENDAR
VERSION:2.0
PRODID:spatie/icalendar-generator
DESCRIPTION:Events from Families Helping Families of Greater New Orleans
X-WR-CALDESC:Events from Families Helping Families of Greater New Orleans
REFRESH-INTERVAL;VALUE=DURATION:PT1440M
X-PUBLISHED-TTL:PT1440M
BEGIN:VTIMEZONE
TZID:America/Chicago
BEGIN:STANDARD
DTSTART:20251102T020000Z
TZOFFSETFROM:-0500
TZOFFSETTO:-0600
END:STANDARD
BEGIN:DAYLIGHT
DTSTART:20260308T020000Z
TZOFFSETFROM:-0600
TZOFFSETTO:-0500
END:DAYLIGHT
END:VTIMEZONE
BEGIN:VTIMEZONE
TZID:UTC
BEGIN:STANDARD
DTSTART:20250725T141651Z
TZOFFSETFROM:+0000
TZOFFSETTO:+0000
END:STANDARD
END:VTIMEZONE
BEGIN:VEVENT
UID:1840-1690
DTSTAMP:20260421T141651Z
SUMMARY:What You Need to Know NOW about Extended School Year Services
LOCATION:
ORGANIZER;CN=Liz Dumas:MAILTO:ldumas@fhfjefferson.org
DTSTART;TZID=America/Chicago:20260326T110000
DTEND;TZID=America/Chicago:20260326T120000
X-ALT-DESC;FMTTYPE=TEXT/HTML:What You Need to Know NOW about Extended Schoo
 l Year Services - Did you know that data collected during the holidays of
 ten determine if your child will qualify for ESY (Extended School Year) Se
 rvices? This training provides an overview of the ESY process including ho
 w children qualify and why\, in many circumstances\, the school uses the&amp;h
 ellip\;
CATEGORIES:Trainings
URL;VALUE=URI:https://fhfofgno.org/mc-events/what-you-need-to-know-now-abou
 t-extended-school-year-services?mc_id=1840
END:VEVENT
END:VCALENDAR