BEGIN:VCALENDAR
VERSION:2.0
PRODID:spatie/icalendar-generator
DESCRIPTION:Events from Families Helping Families of Greater New Orleans
X-WR-CALDESC:Events from Families Helping Families of Greater New Orleans
REFRESH-INTERVAL;VALUE=DURATION:PT1440M
X-PUBLISHED-TTL:PT1440M
BEGIN:VTIMEZONE
TZID:America/Chicago
BEGIN:STANDARD
DTSTART:20231105T020000Z
TZOFFSETFROM:-0500
TZOFFSETTO:-0600
END:STANDARD
BEGIN:DAYLIGHT
DTSTART:20240310T020000Z
TZOFFSETFROM:-0600
TZOFFSETTO:-0500
END:DAYLIGHT
BEGIN:STANDARD
DTSTART:20241103T020000Z
TZOFFSETFROM:-0500
TZOFFSETTO:-0600
END:STANDARD
END:VTIMEZONE
BEGIN:VTIMEZONE
TZID:UTC
BEGIN:STANDARD
DTSTART:20250725T232108Z
TZOFFSETFROM:+0000
TZOFFSETTO:+0000
END:STANDARD
END:VTIMEZONE
BEGIN:VEVENT
UID:1587-1452
DTSTAMP:20260421T232108Z
SUMMARY:What is EarlySteps?
LOCATION:
ORGANIZER;CN=Liz Dumas:MAILTO:ldumas@fhfjefferson.org
DTSTART;TZID=America/Chicago:20240711T110000
DTEND;TZID=America/Chicago:20240711T120000
X-ALT-DESC;FMTTYPE=TEXT/HTML:What is EarlySteps? – Join us as the EarlySt
 eps Coordinator for Regions 1 &amp;amp\; 10 explains EarlySteps\, from who qua
 lifies to the services offered and more. Venue: Zoom Webinar Presenter: To
 morow Fondal\, EarlySteps Coordinator for Regions 1 &amp;amp\; 10 Audience: Pa
 rents\, self-advocates\, or professionals working with students with disab
 ilities or special healthcare needs. After registering&amp;hellip\;
CATEGORIES:Trainings
URL;VALUE=URI:https://fhfofgno.org/mc-events/what-is-earlysteps?mc_id=1587
END:VEVENT
END:VCALENDAR