BEGIN:VCALENDAR
VERSION:2.0
PRODID:spatie/icalendar-generator
DESCRIPTION:Events from Families Helping Families of Greater New Orleans
X-WR-CALDESC:Events from Families Helping Families of Greater New Orleans
REFRESH-INTERVAL;VALUE=DURATION:PT1440M
X-PUBLISHED-TTL:PT1440M
BEGIN:VTIMEZONE
TZID:America/Chicago
BEGIN:STANDARD
DTSTART:20201101T020000Z
TZOFFSETFROM:-0500
TZOFFSETTO:-0600
END:STANDARD
BEGIN:DAYLIGHT
DTSTART:20210314T020000Z
TZOFFSETFROM:-0600
TZOFFSETTO:-0500
END:DAYLIGHT
END:VTIMEZONE
BEGIN:VTIMEZONE
TZID:UTC
BEGIN:STANDARD
DTSTART:20250726T032533Z
TZOFFSETFROM:+0000
TZOFFSETTO:+0000
END:STANDARD
END:VTIMEZONE
BEGIN:VEVENT
UID:1064-953
DTSTAMP:20260422T032533Z
SUMMARY:What Happens When Parents &amp;amp\; Schools Disagree?
LOCATION:
ORGANIZER;CN=Liz Dumas:MAILTO:ldumas@fhfjefferson.org
DTSTART;TZID=America/Chicago:20210322T113000
DTEND;TZID=America/Chicago:20210322T123000
X-ALT-DESC;FMTTYPE=TEXT/HTML:What Happens When Parents &amp;amp\; Schools Disag
 ree? Louisiana's Special Education Dispute Resolution Options - Join us fo
 r this new interactive training as we discuss Special Education dispute re
 solution options when parents disagree. Learning Goals includes: The frequ
 ently used acronyms\; The different informal and formal dispute resolution
 s options offered by the  Louisiana Department of Education\; How&amp;hellip\
 ;
CATEGORIES:Trainings
URL;VALUE=URI:https://fhfofgno.org/mc-events/what-happens-when-parents-scho
 ols-disagree-2?mc_id=1064
END:VEVENT
END:VCALENDAR