BEGIN:VCALENDAR
VERSION:2.0
PRODID:spatie/icalendar-generator
DESCRIPTION:Events from Families Helping Families of Greater New Orleans
X-WR-CALDESC:Events from Families Helping Families of Greater New Orleans
REFRESH-INTERVAL;VALUE=DURATION:PT1440M
X-PUBLISHED-TTL:PT1440M
BEGIN:VTIMEZONE
TZID:America/Chicago
BEGIN:STANDARD
DTSTART:20151101T020000Z
TZOFFSETFROM:-0500
TZOFFSETTO:-0600
END:STANDARD
BEGIN:DAYLIGHT
DTSTART:20160313T020000Z
TZOFFSETFROM:-0600
TZOFFSETTO:-0500
END:DAYLIGHT
END:VTIMEZONE
BEGIN:VTIMEZONE
TZID:UTC
BEGIN:STANDARD
DTSTART:20250725T155617Z
TZOFFSETFROM:+0000
TZOFFSETTO:+0000
END:STANDARD
END:VTIMEZONE
BEGIN:VEVENT
UID:103-85
DTSTAMP:20260421T155617Z
SUMMARY:Understanding the Role of Your Support Coordinator
LOCATION:East Bank Regional Library 4747 W. Napoleon Avenue  Metairie Louis
 iana 70001
ORGANIZER;CN=Liz Dumas:MAILTO:ldumas@fhfjefferson.org
DTSTART;TZID=America/Chicago:20160127T110000
DTEND;TZID=America/Chicago:20160127T120000
X-ALT-DESC;FMTTYPE=TEXT/HTML:To register\, please call: 504-888-9111 or tol
 l free 1-800-766-7736 Click here to register online
CATEGORIES:Office Closure
URL;VALUE=URI:https://fhfofgno.org/mc-events/understanding-the-role-of-your
 -support-coordinator?mc_id=103
END:VEVENT
END:VCALENDAR