BEGIN:VCALENDAR
VERSION:2.0
PRODID:spatie/icalendar-generator
DESCRIPTION:Events from Families Helping Families of Greater New Orleans
X-WR-CALDESC:Events from Families Helping Families of Greater New Orleans
REFRESH-INTERVAL;VALUE=DURATION:PT1440M
X-PUBLISHED-TTL:PT1440M
BEGIN:VTIMEZONE
TZID:America/Chicago
BEGIN:STANDARD
DTSTART:20141102T020000Z
TZOFFSETFROM:-0500
TZOFFSETTO:-0600
END:STANDARD
BEGIN:DAYLIGHT
DTSTART:20150308T020000Z
TZOFFSETFROM:-0600
TZOFFSETTO:-0500
END:DAYLIGHT
BEGIN:STANDARD
DTSTART:20151101T020000Z
TZOFFSETFROM:-0500
TZOFFSETTO:-0600
END:STANDARD
END:VTIMEZONE
BEGIN:VTIMEZONE
TZID:UTC
BEGIN:STANDARD
DTSTART:20250727T233832Z
TZOFFSETFROM:+0000
TZOFFSETTO:+0000
END:STANDARD
END:VTIMEZONE
BEGIN:VEVENT
UID:10-9
DTSTAMP:20260423T233832Z
SUMMARY:Transferring &amp; Positioning
LOCATION:East Bank Regional Library 4747 W. Napoleon Avenue  Metairie Louis
 iana 70001
ORGANIZER;CN=familieshelp:MAILTO:jamie@solidwebservice.com
DTSTART;TZID=America/Chicago:20150519T100000
DTEND;TZID=America/Chicago:20150519T120000
X-ALT-DESC;FMTTYPE=TEXT/HTML:East Bank Regional Library Click Below to Regi
 ster Online:
CATEGORIES:Office Closure
URL;VALUE=URI:https://fhfofgno.org/mc-events/transferring-positioning?mc_id
 =10
END:VEVENT
END:VCALENDAR