BEGIN:VCALENDAR
VERSION:2.0
PRODID:spatie/icalendar-generator
DESCRIPTION:Events from Families Helping Families of Greater New Orleans
X-WR-CALDESC:Events from Families Helping Families of Greater New Orleans
REFRESH-INTERVAL;VALUE=DURATION:PT1440M
X-PUBLISHED-TTL:PT1440M
BEGIN:VTIMEZONE
TZID:America/Chicago
BEGIN:STANDARD
DTSTART:20151101T020000Z
TZOFFSETFROM:-0500
TZOFFSETTO:-0600
END:STANDARD
BEGIN:DAYLIGHT
DTSTART:20160313T020000Z
TZOFFSETFROM:-0600
TZOFFSETTO:-0500
END:DAYLIGHT
BEGIN:STANDARD
DTSTART:20161106T020000Z
TZOFFSETFROM:-0500
TZOFFSETTO:-0600
END:STANDARD
END:VTIMEZONE
BEGIN:VTIMEZONE
TZID:UTC
BEGIN:STANDARD
DTSTART:20250729T114622Z
TZOFFSETFROM:+0000
TZOFFSETTO:+0000
END:STANDARD
END:VTIMEZONE
BEGIN:VEVENT
UID:190-148
DTSTAMP:20260425T114622Z
SUMMARY:Tips to Improve Your Child's Handwriting
LOCATION:
ORGANIZER;CN=Liz Dumas:MAILTO:ldumas@fhfjefferson.org
DTSTART;TZID=America/Chicago:20160519T100000
DTEND;TZID=America/Chicago:20160519T110000
X-ALT-DESC;FMTTYPE=TEXT/HTML:Tips to Improve your Child's Handwriting:  We
  will discuss strategies to improve your child's handwriting using the Han
 dwriting Without Tears curriculum\, as well as fine motor skill activities
  to improve your child's coordination and strength. Presenter: Brooke Wein
 stein\, OTD\, LOTR and Jenny domiano\, MOT\, LOTR\, Occupational Therapist
  and Co-owners of Therapeutic Learning Center Click on&amp;hellip\;
CATEGORIES:Trainings
URL;VALUE=URI:https://fhfofgno.org/mc-events/tips-to-improve-your-childs-ha
 ndwriting?mc_id=190
END:VEVENT
END:VCALENDAR