BEGIN:VCALENDAR
VERSION:2.0
PRODID:spatie/icalendar-generator
DESCRIPTION:Events from Families Helping Families of Greater New Orleans
X-WR-CALDESC:Events from Families Helping Families of Greater New Orleans
REFRESH-INTERVAL;VALUE=DURATION:PT1440M
X-PUBLISHED-TTL:PT1440M
BEGIN:VTIMEZONE
TZID:America/Chicago
BEGIN:STANDARD
DTSTART:20141102T020000Z
TZOFFSETFROM:-0500
TZOFFSETTO:-0600
END:STANDARD
BEGIN:DAYLIGHT
DTSTART:20150308T020000Z
TZOFFSETFROM:-0600
TZOFFSETTO:-0500
END:DAYLIGHT
BEGIN:STANDARD
DTSTART:20151101T020000Z
TZOFFSETFROM:-0500
TZOFFSETTO:-0600
END:STANDARD
END:VTIMEZONE
BEGIN:VTIMEZONE
TZID:UTC
BEGIN:STANDARD
DTSTART:20250726T145046Z
TZOFFSETFROM:+0000
TZOFFSETTO:+0000
END:STANDARD
END:VTIMEZONE
BEGIN:VEVENT
UID:41-32
DTSTAMP:20260422T145046Z
SUMMARY:The Importance of Being Involved in Your Child's Treatment Plan
LOCATION:
ORGANIZER;CN=Liz Dumas:MAILTO:ldumas@fhfjefferson.org
DTSTART;TZID=America/Chicago:20150722T100000
DTEND;TZID=America/Chicago:20150722T110000
X-ALT-DESC;FMTTYPE=TEXT/HTML:Being involved in your child's treatment plan 
 would provide help to the entire Team.  Keeping an open line of communica
 tion is extremely important as well as understanding your voice does MATTE
 R.  Working as a TEAM would increase a better quality of care for your ch
 ild (ren). Presenter: Danielle Marshall\, Magellan Health\, Family and You
 th Involvement&amp;hellip\;
CATEGORIES:Trainings
URL;VALUE=URI:https://fhfofgno.org/mc-events/the-importance-of-being-involv
 ed-in-your-childs-treatment-plan?mc_id=41
END:VEVENT
END:VCALENDAR