BEGIN:VCALENDAR
VERSION:2.0
PRODID:spatie/icalendar-generator
DESCRIPTION:Events from Families Helping Families of Greater New Orleans
X-WR-CALDESC:Events from Families Helping Families of Greater New Orleans
REFRESH-INTERVAL;VALUE=DURATION:PT1440M
X-PUBLISHED-TTL:PT1440M
BEGIN:VTIMEZONE
TZID:America/Chicago
BEGIN:DAYLIGHT
DTSTART:20180311T020000Z
TZOFFSETFROM:-0600
TZOFFSETTO:-0500
END:DAYLIGHT
BEGIN:STANDARD
DTSTART:20181104T020000Z
TZOFFSETFROM:-0500
TZOFFSETTO:-0600
END:STANDARD
BEGIN:DAYLIGHT
DTSTART:20190310T020000Z
TZOFFSETFROM:-0600
TZOFFSETTO:-0500
END:DAYLIGHT
END:VTIMEZONE
BEGIN:VTIMEZONE
TZID:UTC
BEGIN:STANDARD
DTSTART:20250723T165845Z
TZOFFSETFROM:+0000
TZOFFSETTO:+0000
END:STANDARD
END:VTIMEZONE
BEGIN:VEVENT
UID:665-569
DTSTAMP:20260419T165845Z
SUMMARY:The Every Student Succeeds Act
LOCATION:Urban League of Louisiana 4640 S. Carrollton Ave. Patrick Taylor R
 oom New Orleans LA 70119
ORGANIZER;CN=Liz Dumas:MAILTO:ldumas@fhfjefferson.org
DTSTART;TZID=America/Chicago:20180919T180000
DTEND;TZID=America/Chicago:20180919T200000
X-ALT-DESC;FMTTYPE=TEXT/HTML:To register\, click on the link below or call 
 504-888-9111 or toll-free 1-800-766-7736
CATEGORIES:Office Closure
URL;VALUE=URI:https://fhfofgno.org/mc-events/the-every-student-succeeds-act
 ?mc_id=665
END:VEVENT
END:VCALENDAR