BEGIN:VCALENDAR
VERSION:2.0
PRODID:spatie/icalendar-generator
DESCRIPTION:Events from Families Helping Families of Greater New Orleans
X-WR-CALDESC:Events from Families Helping Families of Greater New Orleans
REFRESH-INTERVAL;VALUE=DURATION:PT1440M
X-PUBLISHED-TTL:PT1440M
BEGIN:VTIMEZONE
TZID:America/Chicago
BEGIN:DAYLIGHT
DTSTART:20170312T020000Z
TZOFFSETFROM:-0600
TZOFFSETTO:-0500
END:DAYLIGHT
BEGIN:STANDARD
DTSTART:20171105T020000Z
TZOFFSETFROM:-0500
TZOFFSETTO:-0600
END:STANDARD
END:VTIMEZONE
BEGIN:VTIMEZONE
TZID:UTC
BEGIN:STANDARD
DTSTART:20250726T183551Z
TZOFFSETFROM:+0000
TZOFFSETTO:+0000
END:STANDARD
END:VTIMEZONE
BEGIN:VEVENT
UID:450-373
DTSTAMP:20260422T183551Z
SUMMARY:The Big Step: Transitioning Into Preschool
LOCATION:
ORGANIZER;CN=Liz Dumas:MAILTO:ldumas@fhfjefferson.org
DTSTART;TZID=America/Chicago:20170815T103000
DTEND;TZID=America/Chicago:20170815T113000
X-ALT-DESC;FMTTYPE=TEXT/HTML:The Big Step: Transitioning Into Preschool - T
 his webinar is to give insight on the importance of successful transitions
  from Early Intervention services to preschool. It touches on the importan
 ce of the roles of the parents\, service coordinators\, and educators. Par
 ticipants will learn the positive and negative effects of transitions. We 
 will also focus on&amp;hellip\;
CATEGORIES:Trainings
URL;VALUE=URI:https://fhfofgno.org/mc-events/the-big-step-transitioning-int
 o-preschool-2?mc_id=450
END:VEVENT
END:VCALENDAR