BEGIN:VCALENDAR
VERSION:2.0
PRODID:spatie/icalendar-generator
DESCRIPTION:Events from Families Helping Families of Greater New Orleans
X-WR-CALDESC:Events from Families Helping Families of Greater New Orleans
REFRESH-INTERVAL;VALUE=DURATION:PT1440M
X-PUBLISHED-TTL:PT1440M
BEGIN:VTIMEZONE
TZID:America/Chicago
BEGIN:STANDARD
DTSTART:20161106T020000Z
TZOFFSETFROM:-0500
TZOFFSETTO:-0600
END:STANDARD
BEGIN:DAYLIGHT
DTSTART:20170312T020000Z
TZOFFSETFROM:-0600
TZOFFSETTO:-0500
END:DAYLIGHT
END:VTIMEZONE
BEGIN:VTIMEZONE
TZID:UTC
BEGIN:STANDARD
DTSTART:20250727T012003Z
TZOFFSETFROM:+0000
TZOFFSETTO:+0000
END:STANDARD
END:VTIMEZONE
BEGIN:VEVENT
UID:367-307
DTSTAMP:20260423T012003Z
SUMMARY:The Big IDEA! What's the Big IDEA Behind Inclusion?
LOCATION:
ORGANIZER;CN=Liz Dumas:MAILTO:ldumas@fhfjefferson.org
DTSTART;TZID=America/Chicago:20170323T130000
DTEND;TZID=America/Chicago:20170323T140000
X-ALT-DESC;FMTTYPE=TEXT/HTML:One of several vitally important components in
  the development of the IEP is making placement decisions.  This webinar 
 will provide you with information and resources on three of IDEA ‘s fund
 amental requirements: that the child receive a free appropriate public ed
 ucation (FAPE) in the least restrictive environment (LRE) and parent invol
 vement in placement decisions. Presenter: Shanida&amp;hellip\;
CATEGORIES:Trainings
URL;VALUE=URI:https://fhfofgno.org/mc-events/the-big-idea-whats-the-big-ide
 a-behind-inclusion?mc_id=367
END:VEVENT
END:VCALENDAR