BEGIN:VCALENDAR
VERSION:2.0
PRODID:spatie/icalendar-generator
DESCRIPTION:Events from Families Helping Families of Greater New Orleans
X-WR-CALDESC:Events from Families Helping Families of Greater New Orleans
REFRESH-INTERVAL;VALUE=DURATION:PT1440M
X-PUBLISHED-TTL:PT1440M
BEGIN:VTIMEZONE
TZID:America/Chicago
BEGIN:STANDARD
DTSTART:20221106T020000Z
TZOFFSETFROM:-0500
TZOFFSETTO:-0600
END:STANDARD
BEGIN:DAYLIGHT
DTSTART:20230312T020000Z
TZOFFSETFROM:-0600
TZOFFSETTO:-0500
END:DAYLIGHT
BEGIN:STANDARD
DTSTART:20231105T020000Z
TZOFFSETFROM:-0500
TZOFFSETTO:-0600
END:STANDARD
END:VTIMEZONE
BEGIN:VTIMEZONE
TZID:UTC
BEGIN:STANDARD
DTSTART:20250725T082144Z
TZOFFSETFROM:+0000
TZOFFSETTO:+0000
END:STANDARD
END:VTIMEZONE
BEGIN:VEVENT
UID:1443-1316
DTSTAMP:20260421T082144Z
SUMMARY:The April Dunn Act – What Parents Need to Know NOW
LOCATION:
ORGANIZER;CN=Liz Dumas:MAILTO:ldumas@fhfjefferson.org
DTSTART;TZID=America/Chicago:20230720T100000
DTEND;TZID=America/Chicago:20230720T230000
X-ALT-DESC;FMTTYPE=TEXT/HTML:The April Dunn Act – What Parents Need to Kn
 ow NOW - Rebecca Hanberry\, a consultant with the Louisiana Department of 
 Education\, will break down the April Dunn Act and explain who is eligible
  to receive a diploma through this graduation pathway. She will also talk 
 about what parents need to know NOW – at&amp;hellip\;
CATEGORIES:Trainings
URL;VALUE=URI:https://fhfofgno.org/mc-events/the-april-dunn-act-what-parent
 s-need-to-know-now?mc_id=1443
END:VEVENT
END:VCALENDAR