BEGIN:VCALENDAR
VERSION:2.0
PRODID:spatie/icalendar-generator
DESCRIPTION:Events from Families Helping Families of Greater New Orleans
X-WR-CALDESC:Events from Families Helping Families of Greater New Orleans
REFRESH-INTERVAL;VALUE=DURATION:PT1440M
X-PUBLISHED-TTL:PT1440M
BEGIN:VTIMEZONE
TZID:America/Chicago
BEGIN:DAYLIGHT
DTSTART:20160313T020000Z
TZOFFSETFROM:-0600
TZOFFSETTO:-0500
END:DAYLIGHT
BEGIN:STANDARD
DTSTART:20161106T020000Z
TZOFFSETFROM:-0500
TZOFFSETTO:-0600
END:STANDARD
BEGIN:DAYLIGHT
DTSTART:20170312T020000Z
TZOFFSETFROM:-0600
TZOFFSETTO:-0500
END:DAYLIGHT
END:VTIMEZONE
BEGIN:VTIMEZONE
TZID:UTC
BEGIN:STANDARD
DTSTART:20250725T183834Z
TZOFFSETFROM:+0000
TZOFFSETTO:+0000
END:STANDARD
END:VTIMEZONE
BEGIN:VEVENT
UID:293-241
DTSTAMP:20260421T183834Z
SUMMARY:The Americans with Disability Act\, The Individuals with Disabiliti
 es Education Act and Section 504 of the Rehabilitation Act
LOCATION:
ORGANIZER;CN=Liz Dumas:MAILTO:ldumas@fhfjefferson.org
DTSTART;TZID=America/Chicago:20161129T110000
DTEND;TZID=America/Chicago:20161129T120000
X-ALT-DESC;FMTTYPE=TEXT/HTML:The Americans with Disabilities Act (ADA)\, th
 e Individuals with Disabilities Education Act (IDEA)\, and Section 504 of 
 the Rehabilitation Act are essential laws that help to ensure the civil ri
 ghts of people with disabilities.  Each law has it’s own specific purpo
 se. In this workshop\, participants will gain an understanding of the ADA\
 , IDEA\, and Section&amp;hellip\;
CATEGORIES:Trainings
URL;VALUE=URI:https://fhfofgno.org/mc-events/the-americans-with-disability-
 act-the-individuals-with-disabilities-education-act-and-section-504-of-the
 -rehabilitation-act?mc_id=293
END:VEVENT
END:VCALENDAR