BEGIN:VCALENDAR
VERSION:2.0
PRODID:spatie/icalendar-generator
DESCRIPTION:Events from Families Helping Families of Greater New Orleans
X-WR-CALDESC:Events from Families Helping Families of Greater New Orleans
REFRESH-INTERVAL;VALUE=DURATION:PT1440M
X-PUBLISHED-TTL:PT1440M
BEGIN:VTIMEZONE
TZID:America/Chicago
BEGIN:STANDARD
DTSTART:20171105T020000Z
TZOFFSETFROM:-0500
TZOFFSETTO:-0600
END:STANDARD
BEGIN:DAYLIGHT
DTSTART:20180311T020000Z
TZOFFSETFROM:-0600
TZOFFSETTO:-0500
END:DAYLIGHT
BEGIN:STANDARD
DTSTART:20181104T020000Z
TZOFFSETFROM:-0500
TZOFFSETTO:-0600
END:STANDARD
END:VTIMEZONE
BEGIN:VTIMEZONE
TZID:UTC
BEGIN:STANDARD
DTSTART:20250729T132931Z
TZOFFSETFROM:+0000
TZOFFSETTO:+0000
END:STANDARD
END:VTIMEZONE
BEGIN:VEVENT
UID:593-504
DTSTAMP:20260425T132931Z
SUMMARY:The ABC's of ESY
LOCATION:
ORGANIZER;CN=Liz Dumas:MAILTO:ldumas@fhfjefferson.org
DTSTART;TZID=America/Chicago:20180507T210000
DTEND;TZID=America/Chicago:20180507T220000
X-ALT-DESC;FMTTYPE=TEXT/HTML:The ABC's of ESY - This training provides an o
 verview of the ESYP process for children with disabilities. Some questions
  (and answers) that will be discussed include: what is ESY\, how does a ch
 ild qualify\, and what are the options? Presenter: Jessica Rodrigue\, FHF 
 of GNO Audience: Parents\, Caregivers\, and Professionals of School-Aged C
 hildren/Student Click&amp;hellip\;
CATEGORIES:Trainings
URL;VALUE=URI:https://fhfofgno.org/mc-events/the-abcs-of-esy?mc_id=593
END:VEVENT
END:VCALENDAR