BEGIN:VCALENDAR
VERSION:2.0
PRODID:spatie/icalendar-generator
DESCRIPTION:Events from Families Helping Families of Greater New Orleans
X-WR-CALDESC:Events from Families Helping Families of Greater New Orleans
REFRESH-INTERVAL;VALUE=DURATION:PT1440M
X-PUBLISHED-TTL:PT1440M
BEGIN:VTIMEZONE
TZID:America/Chicago
BEGIN:STANDARD
DTSTART:20201101T020000Z
TZOFFSETFROM:-0500
TZOFFSETTO:-0600
END:STANDARD
BEGIN:DAYLIGHT
DTSTART:20210314T020000Z
TZOFFSETFROM:-0600
TZOFFSETTO:-0500
END:DAYLIGHT
BEGIN:STANDARD
DTSTART:20211107T020000Z
TZOFFSETFROM:-0500
TZOFFSETTO:-0600
END:STANDARD
END:VTIMEZONE
BEGIN:VTIMEZONE
TZID:UTC
BEGIN:STANDARD
DTSTART:20250726T044854Z
TZOFFSETFROM:+0000
TZOFFSETTO:+0000
END:STANDARD
END:VTIMEZONE
BEGIN:VEVENT
UID:1164-1048
DTSTAMP:20260422T044854Z
SUMMARY:TEAM UP - LSU Health New Orleans Q &amp;amp\; A Session
LOCATION:
ORGANIZER;CN=Liz Dumas:MAILTO:ldumas@fhfjefferson.org
DTSTART;TZID=America/Chicago:20210713T123000
DTEND;TZID=America/Chicago:20210713T130000
X-ALT-DESC;FMTTYPE=TEXT/HTML:TEAM UP - LSU Health New Orleans Q &amp;amp\; A Se
 ssion - Join us as professionals from LSU Health New Orleans discuss the 
 Team Up program. The Health Partner community program at LSU Health New Or
 leans provides students in the first year of their program an opportunity
  to learn together as a team about the health\, health&amp;hellip\;
CATEGORIES:Office Closure
URL;VALUE=URI:https://fhfofgno.org/mc-events/team-up-lsu-health-new-orleans
 -q-a-session?mc_id=1164
END:VEVENT
END:VCALENDAR