BEGIN:VCALENDAR
VERSION:2.0
PRODID:spatie/icalendar-generator
DESCRIPTION:Events from Families Helping Families of Greater New Orleans
X-WR-CALDESC:Events from Families Helping Families of Greater New Orleans
REFRESH-INTERVAL;VALUE=DURATION:PT1440M
X-PUBLISHED-TTL:PT1440M
BEGIN:VTIMEZONE
TZID:America/Chicago
BEGIN:STANDARD
DTSTART:20191103T020000Z
TZOFFSETFROM:-0500
TZOFFSETTO:-0600
END:STANDARD
BEGIN:DAYLIGHT
DTSTART:20200308T020000Z
TZOFFSETFROM:-0600
TZOFFSETTO:-0500
END:DAYLIGHT
END:VTIMEZONE
BEGIN:VTIMEZONE
TZID:UTC
BEGIN:STANDARD
DTSTART:20250725T183434Z
TZOFFSETFROM:+0000
TZOFFSETTO:+0000
END:STANDARD
END:VTIMEZONE
BEGIN:VEVENT
UID:937-834
DTSTAMP:20260421T183434Z
SUMMARY:Teaching Independence: Wash Your Hands!
LOCATION:
ORGANIZER;CN=Liz Dumas:MAILTO:ldumas@fhfjefferson.org
DTSTART;TZID=America/Chicago:20200409T130000
DTEND;TZID=America/Chicago:20200409T140000
X-ALT-DESC;FMTTYPE=TEXT/HTML:Teaching Independence:  Wash Your Hands!\"  
 - Wash your hands!!  How often have we heard these words over the past f
 ew weeks?  Are our kids and adults with developmental disabilities washin
 g effectively?  Do you want to know more about how you can ensure they do
 ?  Tune in for an informative webinar:  \"Teaching Independence:  Wash
  Your Hands!\" Presenter: Dawn&amp;hellip\;
CATEGORIES:Trainings
URL;VALUE=URI:https://fhfofgno.org/mc-events/teaching-independence-wash-you
 r-hands?mc_id=937
END:VEVENT
END:VCALENDAR