BEGIN:VCALENDAR
VERSION:2.0
PRODID:spatie/icalendar-generator
DESCRIPTION:Events from Families Helping Families of Greater New Orleans
X-WR-CALDESC:Events from Families Helping Families of Greater New Orleans
REFRESH-INTERVAL;VALUE=DURATION:PT1440M
X-PUBLISHED-TTL:PT1440M
BEGIN:VTIMEZONE
TZID:America/Chicago
BEGIN:STANDARD
DTSTART:20231105T020000Z
TZOFFSETFROM:-0500
TZOFFSETTO:-0600
END:STANDARD
BEGIN:DAYLIGHT
DTSTART:20240310T020000Z
TZOFFSETFROM:-0600
TZOFFSETTO:-0500
END:DAYLIGHT
END:VTIMEZONE
BEGIN:VTIMEZONE
TZID:UTC
BEGIN:STANDARD
DTSTART:20250723T233838Z
TZOFFSETFROM:+0000
TZOFFSETTO:+0000
END:STANDARD
END:VTIMEZONE
BEGIN:VEVENT
UID:1560-1425
DTSTAMP:20260419T233838Z
SUMMARY:Supporting Your Child's Literacy Development in the Elementary Year
 s
LOCATION:
ORGANIZER;CN=Liz Dumas:MAILTO:ldumas@fhfjefferson.org
DTSTART;TZID=America/Chicago:20240501T100000
DTEND;TZID=America/Chicago:20240501T110000
X-ALT-DESC;FMTTYPE=TEXT/HTML:Supporting Your Child’s Literacy Development
  in the Elementary Years - In this webinar\, we will discuss how to suppor
 t your young school-aged child’s literacy development with evidence-base
 d strategies\, tips\, and activities. Venue: Zoom Webinar Presenter: Beth 
 McLean\, National Center for Improving Literacy Co-Hosts:  FHF of GBR\, F
 HF of NELA\, FHF of SWLA Audience:  Parents\, Caregivers\,&amp;hellip\;
CATEGORIES:Trainings
URL;VALUE=URI:https://fhfofgno.org/mc-events/supporting-your-childs-literac
 y-development-in-the-elementary-years?mc_id=1560
END:VEVENT
END:VCALENDAR