BEGIN:VCALENDAR
VERSION:2.0
PRODID:spatie/icalendar-generator
DESCRIPTION:Events from Families Helping Families of Greater New Orleans
X-WR-CALDESC:Events from Families Helping Families of Greater New Orleans
REFRESH-INTERVAL;VALUE=DURATION:PT1440M
X-PUBLISHED-TTL:PT1440M
BEGIN:VTIMEZONE
TZID:America/Chicago
BEGIN:STANDARD
DTSTART:20231105T020000Z
TZOFFSETFROM:-0500
TZOFFSETTO:-0600
END:STANDARD
BEGIN:DAYLIGHT
DTSTART:20240310T020000Z
TZOFFSETFROM:-0600
TZOFFSETTO:-0500
END:DAYLIGHT
END:VTIMEZONE
BEGIN:VTIMEZONE
TZID:UTC
BEGIN:STANDARD
DTSTART:20250726T152452Z
TZOFFSETFROM:+0000
TZOFFSETTO:+0000
END:STANDARD
END:VTIMEZONE
BEGIN:VEVENT
UID:1559-1424
DTSTAMP:20260422T152452Z
SUMMARY:Supporting Your Child's Literacy Development in Preschool
LOCATION:
ORGANIZER;CN=Liz Dumas:MAILTO:ldumas@fhfjefferson.org
DTSTART;TZID=America/Chicago:20240410T100000
DTEND;TZID=America/Chicago:20240410T110000
X-ALT-DESC;FMTTYPE=TEXT/HTML:Supporting Your Child’s Literacy Development
  in Preschool – Dr. Beth McLean of the National Center for Improving Lit
 eracy will explain evidence-based strategies\, tips\, and activities you c
 an use to support your child’s literacy development from an early age. V
 enue: Zoom Webinar Presenter: Beth McLean Co-Hosts:  FHF of GBR\, FHF of 
 NELA\, FHF of SWLA Audience: &amp;hellip\;
CATEGORIES:Trainings
URL;VALUE=URI:https://fhfofgno.org/mc-events/supporting-your-childs-literac
 y-development-in-preschool?mc_id=1559
END:VEVENT
END:VCALENDAR