BEGIN:VCALENDAR
VERSION:2.0
PRODID:spatie/icalendar-generator
DESCRIPTION:Events from Families Helping Families of Greater New Orleans
X-WR-CALDESC:Events from Families Helping Families of Greater New Orleans
REFRESH-INTERVAL;VALUE=DURATION:PT1440M
X-PUBLISHED-TTL:PT1440M
BEGIN:VTIMEZONE
TZID:America/Chicago
BEGIN:STANDARD
DTSTART:20201101T020000Z
TZOFFSETFROM:-0500
TZOFFSETTO:-0600
END:STANDARD
BEGIN:DAYLIGHT
DTSTART:20210314T020000Z
TZOFFSETFROM:-0600
TZOFFSETTO:-0500
END:DAYLIGHT
END:VTIMEZONE
BEGIN:VTIMEZONE
TZID:UTC
BEGIN:STANDARD
DTSTART:20250726T030909Z
TZOFFSETFROM:+0000
TZOFFSETTO:+0000
END:STANDARD
END:VTIMEZONE
BEGIN:VEVENT
UID:1072-961
DTSTAMP:20260422T030909Z
SUMMARY:Supporting Your Child in English Language Arts
LOCATION:
ORGANIZER;CN=Liz Dumas:MAILTO:ldumas@fhfjefferson.org
DTSTART;TZID=America/Chicago:20210317T180000
DTEND;TZID=America/Chicago:20210317T190000
X-ALT-DESC;FMTTYPE=TEXT/HTML:Supporting Your Child in English Language Arts
  - FHF of GNO has partnered with the Louisiana Department of Education to 
 provide trainings on Supporting Your Child during Virtual Learning and Min
 i Sessions on early literacy and how parents can help their child become a
  better reader. Please come join us as we provide some useful&amp;hellip\;
CATEGORIES:Office Closure
URL;VALUE=URI:https://fhfofgno.org/mc-events/supporting-your-child-in-engli
 sh-language-arts-2?mc_id=1072
END:VEVENT
END:VCALENDAR