BEGIN:VCALENDAR
VERSION:2.0
PRODID:spatie/icalendar-generator
DESCRIPTION:Events from Families Helping Families of Greater New Orleans
X-WR-CALDESC:Events from Families Helping Families of Greater New Orleans
REFRESH-INTERVAL;VALUE=DURATION:PT1440M
X-PUBLISHED-TTL:PT1440M
BEGIN:VTIMEZONE
TZID:America/Chicago
BEGIN:STANDARD
DTSTART:20151101T020000Z
TZOFFSETFROM:-0500
TZOFFSETTO:-0600
END:STANDARD
BEGIN:DAYLIGHT
DTSTART:20160313T020000Z
TZOFFSETFROM:-0600
TZOFFSETTO:-0500
END:DAYLIGHT
BEGIN:STANDARD
DTSTART:20161106T020000Z
TZOFFSETFROM:-0500
TZOFFSETTO:-0600
END:STANDARD
END:VTIMEZONE
BEGIN:VTIMEZONE
TZID:UTC
BEGIN:STANDARD
DTSTART:20250726T045341Z
TZOFFSETFROM:+0000
TZOFFSETTO:+0000
END:STANDARD
END:VTIMEZONE
BEGIN:VEVENT
UID:185-143
DTSTAMP:20260422T045341Z
SUMMARY:Summer Camps and the Americans with Disabilities Act
LOCATION:
ORGANIZER;CN=Liz Dumas:MAILTO:ldumas@fhfjefferson.org
DTSTART;TZID=America/Chicago:20160505T100000
DTEND;TZID=America/Chicago:20160505T110000
X-ALT-DESC;FMTTYPE=TEXT/HTML:With school almost out\, it’s time to begin 
 thinking about camp and other arrangements for the summer.  Children with
  disabilities require and need recreation the same as other children.  Un
 der the Americans with Disabilities Act (“A.D.A.”)\, a child is entitl
 ed to attend any camp or activity that non-disabled children attend\, with
  modifications\, and with a&amp;hellip\;
CATEGORIES:Trainings
URL;VALUE=URI:https://fhfofgno.org/mc-events/summer-camps-and-the-americans
 -with-disabilities-act?mc_id=185
END:VEVENT
END:VCALENDAR