BEGIN:VCALENDAR
VERSION:2.0
PRODID:spatie/icalendar-generator
DESCRIPTION:Events from Families Helping Families of Greater New Orleans
X-WR-CALDESC:Events from Families Helping Families of Greater New Orleans
REFRESH-INTERVAL;VALUE=DURATION:PT1440M
X-PUBLISHED-TTL:PT1440M
BEGIN:VTIMEZONE
TZID:America/Chicago
BEGIN:STANDARD
DTSTART:20151101T020000Z
TZOFFSETFROM:-0500
TZOFFSETTO:-0600
END:STANDARD
BEGIN:DAYLIGHT
DTSTART:20160313T020000Z
TZOFFSETFROM:-0600
TZOFFSETTO:-0500
END:DAYLIGHT
BEGIN:STANDARD
DTSTART:20161106T020000Z
TZOFFSETFROM:-0500
TZOFFSETTO:-0600
END:STANDARD
END:VTIMEZONE
BEGIN:VTIMEZONE
TZID:UTC
BEGIN:STANDARD
DTSTART:20250727T145247Z
TZOFFSETFROM:+0000
TZOFFSETTO:+0000
END:STANDARD
END:VTIMEZONE
BEGIN:VEVENT
UID:191-149
DTSTAMP:20260423T145247Z
SUMMARY:Summer Camps and the Americans Disabilities Act
LOCATION:
ORGANIZER;CN=Liz Dumas:MAILTO:ldumas@fhfjefferson.org
DTSTART;TZID=America/Chicago:20160520T110000
DTEND;TZID=America/Chicago:20160520T120000
X-ALT-DESC;FMTTYPE=TEXT/HTML:Summer Camps and the Americans with Disabiliti
 es Act:  With school almost out\, it’s time to begin thinking about cam
 p and other arrangements for the summer.  Children with disabilities requ
 ire and need recreation the same as other children.  Under the Americans 
 with Disabilities Act (“A.D.A.”)\, a child is entitled to attend any c
 amp or activity that&amp;hellip\;
CATEGORIES:Trainings
URL;VALUE=URI:https://fhfofgno.org/mc-events/summer-camps-and-the-americans
 -disabilities-act?mc_id=191
END:VEVENT
END:VCALENDAR