BEGIN:VCALENDAR
VERSION:2.0
PRODID:spatie/icalendar-generator
DESCRIPTION:Events from Families Helping Families of Greater New Orleans
X-WR-CALDESC:Events from Families Helping Families of Greater New Orleans
REFRESH-INTERVAL;VALUE=DURATION:PT1440M
X-PUBLISHED-TTL:PT1440M
BEGIN:VTIMEZONE
TZID:America/Chicago
BEGIN:DAYLIGHT
DTSTART:20160313T020000Z
TZOFFSETFROM:-0600
TZOFFSETTO:-0500
END:DAYLIGHT
BEGIN:STANDARD
DTSTART:20161106T020000Z
TZOFFSETFROM:-0500
TZOFFSETTO:-0600
END:STANDARD
BEGIN:DAYLIGHT
DTSTART:20170312T020000Z
TZOFFSETFROM:-0600
TZOFFSETTO:-0500
END:DAYLIGHT
END:VTIMEZONE
BEGIN:VTIMEZONE
TZID:UTC
BEGIN:STANDARD
DTSTART:20250727T042352Z
TZOFFSETFROM:+0000
TZOFFSETTO:+0000
END:STANDARD
END:VTIMEZONE
BEGIN:VEVENT
UID:231-186
DTSTAMP:20260423T042352Z
SUMMARY:Special Needs Trust\, ABLE Act\, Legal Status
LOCATION:East Bank Regional Library 4747 W. Napoleon Avenue  Metairie Louis
 iana 70001
ORGANIZER;CN=Liz Dumas:MAILTO:ldumas@fhfjefferson.org
DTSTART;TZID=America/Chicago:20160927T100000
DTEND;TZID=America/Chicago:20160927T120000
X-ALT-DESC;FMTTYPE=TEXT/HTML:To register\, plese call: 504-888-9111 or toll
  free 1-800-766-7726 Click on the link below to register online!
CATEGORIES:Office Closure
URL;VALUE=URI:https://fhfofgno.org/mc-events/special-needs-trust-able-act-l
 egal-status?mc_id=231
END:VEVENT
END:VCALENDAR