BEGIN:VCALENDAR
VERSION:2.0
PRODID:spatie/icalendar-generator
DESCRIPTION:Events from Families Helping Families of Greater New Orleans
X-WR-CALDESC:Events from Families Helping Families of Greater New Orleans
REFRESH-INTERVAL;VALUE=DURATION:PT1440M
X-PUBLISHED-TTL:PT1440M
BEGIN:VTIMEZONE
TZID:America/Chicago
BEGIN:DAYLIGHT
DTSTART:20240310T020000Z
TZOFFSETFROM:-0600
TZOFFSETTO:-0500
END:DAYLIGHT
BEGIN:STANDARD
DTSTART:20241103T020000Z
TZOFFSETFROM:-0500
TZOFFSETTO:-0600
END:STANDARD
BEGIN:DAYLIGHT
DTSTART:20250309T020000Z
TZOFFSETFROM:-0600
TZOFFSETTO:-0500
END:DAYLIGHT
END:VTIMEZONE
BEGIN:VTIMEZONE
TZID:UTC
BEGIN:STANDARD
DTSTART:20250726T133942Z
TZOFFSETFROM:+0000
TZOFFSETTO:+0000
END:STANDARD
END:VTIMEZONE
BEGIN:VEVENT
UID:1641-1505
DTSTAMP:20260422T133942Z
SUMMARY:Shining Light on ASD and Essential Supports
LOCATION:
ORGANIZER;CN=Liz Dumas:MAILTO:ldumas@fhfjefferson.org
DTSTART;TZID=America/Chicago:20241119T190000
DTEND;TZID=America/Chicago:20241119T200000
X-ALT-DESC;FMTTYPE=TEXT/HTML:Shining Light on ASD and Essential Supports - 
 Everyone utilizes essential support strategies throughout their day\, with
 out even realizing it. Join us as we provide an overview of Autism Spectru
 m Disorder (ASD) characteristics and explore how these everyday essential 
 supports can be used at home to assist individuals with ASD to be successf
 ul and avoid&amp;hellip\;
CATEGORIES:Trainings
URL;VALUE=URI:https://fhfofgno.org/mc-events/shining-light-on-asd-and-essen
 tial-supports?mc_id=1641
END:VEVENT
END:VCALENDAR