BEGIN:VCALENDAR
VERSION:2.0
PRODID:spatie/icalendar-generator
DESCRIPTION:Events from Families Helping Families of Greater New Orleans
X-WR-CALDESC:Events from Families Helping Families of Greater New Orleans
REFRESH-INTERVAL;VALUE=DURATION:PT1440M
X-PUBLISHED-TTL:PT1440M
BEGIN:VTIMEZONE
TZID:America/Chicago
BEGIN:DAYLIGHT
DTSTART:20160313T020000Z
TZOFFSETFROM:-0600
TZOFFSETTO:-0500
END:DAYLIGHT
BEGIN:STANDARD
DTSTART:20161106T020000Z
TZOFFSETFROM:-0500
TZOFFSETTO:-0600
END:STANDARD
BEGIN:DAYLIGHT
DTSTART:20170312T020000Z
TZOFFSETFROM:-0600
TZOFFSETTO:-0500
END:DAYLIGHT
END:VTIMEZONE
BEGIN:VTIMEZONE
TZID:UTC
BEGIN:STANDARD
DTSTART:20250727T060506Z
TZOFFSETFROM:+0000
TZOFFSETTO:+0000
END:STANDARD
END:VTIMEZONE
BEGIN:VEVENT
UID:267-216
DTSTAMP:20260423T060506Z
SUMMARY:Section 504 &amp;amp\; IDEA - What's the Difference?
LOCATION:
ORGANIZER;CN=Liz Dumas:MAILTO:ldumas@fhfjefferson.org
DTSTART;TZID=America/Chicago:20161006T100000
DTEND;TZID=America/Chicago:20161006T110000
X-ALT-DESC;FMTTYPE=TEXT/HTML:Have you ever wondered which law applies to yo
 ur child-the Individuals with Disabilities Education Act (IDEA) or Section
  504 of the Rehabilitation Act? Would you like a clearer understanding abo
 ut the differences and similarities between the two laws? This workshop pr
 ovides participants with a brief overview of both laws\, focusing on the p
 urposes and eligibility&amp;hellip\;
CATEGORIES:Trainings
URL;VALUE=URI:https://fhfofgno.org/mc-events/section-504-idea-whats-the-dif
 ference-2?mc_id=267
END:VEVENT
END:VCALENDAR