BEGIN:VCALENDAR
VERSION:2.0
PRODID:spatie/icalendar-generator
DESCRIPTION:Events from Families Helping Families of Greater New Orleans
X-WR-CALDESC:Events from Families Helping Families of Greater New Orleans
REFRESH-INTERVAL;VALUE=DURATION:PT1440M
X-PUBLISHED-TTL:PT1440M
BEGIN:VTIMEZONE
TZID:America/Chicago
BEGIN:DAYLIGHT
DTSTART:20170312T020000Z
TZOFFSETFROM:-0600
TZOFFSETTO:-0500
END:DAYLIGHT
BEGIN:STANDARD
DTSTART:20171105T020000Z
TZOFFSETFROM:-0500
TZOFFSETTO:-0600
END:STANDARD
END:VTIMEZONE
BEGIN:VTIMEZONE
TZID:UTC
BEGIN:STANDARD
DTSTART:20250728T111440Z
TZOFFSETFROM:+0000
TZOFFSETTO:+0000
END:STANDARD
END:VTIMEZONE
BEGIN:VEVENT
UID:458-381
DTSTAMP:20260424T111440Z
SUMMARY:Section 504 and Transition
LOCATION:
ORGANIZER;CN=Liz Dumas:MAILTO:ldumas@fhfjefferson.org
DTSTART;TZID=America/Chicago:20170829T133000
DTEND;TZID=America/Chicago:20170829T143000
X-ALT-DESC;FMTTYPE=TEXT/HTML:Section 504 and Transition - The Bridge from H
 igh School to Postsecondary Services. In this webinar\, we will assist you
  to understand the ITP process as it pertains to postsecondary education a
 nd other related services. We will also provide an overview of programs an
 d resources available to your child entering postsecondary education or em
 ployment. Presenter: ​Raquel&amp;hellip\;
CATEGORIES:Trainings
URL;VALUE=URI:https://fhfofgno.org/mc-events/section-504-and-transition?mc_
 id=458
END:VEVENT
END:VCALENDAR