BEGIN:VCALENDAR
VERSION:2.0
PRODID:spatie/icalendar-generator
DESCRIPTION:Events from Families Helping Families of Greater New Orleans
X-WR-CALDESC:Events from Families Helping Families of Greater New Orleans
REFRESH-INTERVAL;VALUE=DURATION:PT1440M
X-PUBLISHED-TTL:PT1440M
BEGIN:VTIMEZONE
TZID:America/Chicago
BEGIN:DAYLIGHT
DTSTART:20200308T020000Z
TZOFFSETFROM:-0600
TZOFFSETTO:-0500
END:DAYLIGHT
BEGIN:STANDARD
DTSTART:20201101T020000Z
TZOFFSETFROM:-0500
TZOFFSETTO:-0600
END:STANDARD
BEGIN:DAYLIGHT
DTSTART:20210314T020000Z
TZOFFSETFROM:-0600
TZOFFSETTO:-0500
END:DAYLIGHT
END:VTIMEZONE
BEGIN:VTIMEZONE
TZID:UTC
BEGIN:STANDARD
DTSTART:20250724T173925Z
TZOFFSETFROM:+0000
TZOFFSETTO:+0000
END:STANDARD
END:VTIMEZONE
BEGIN:VEVENT
UID:999-893
DTSTAMP:20260420T173925Z
SUMMARY:Section 504 and Transition
LOCATION:
ORGANIZER;CN=Liz Dumas:MAILTO:ldumas@fhfjefferson.org
DTSTART;TZID=America/Chicago:20201028T120000
DTEND;TZID=America/Chicago:20201028T130000
X-ALT-DESC;FMTTYPE=TEXT/HTML:Section 504 and Transition - In this webinar
 \, we will assist you to understand the ITP process as it pertains to pos
 tsecondary education and other related services. We will also provide an o
 verview of programs and resources available to your child entering postse
 condary education or employment. Co-Sponsor: FHF Southwest LA Presenter: J
 essica Rodrigue\, FHF of GNO Audience:  Parents\, Caregivers\, and&amp;helli
 p\;
CATEGORIES:Trainings
URL;VALUE=URI:https://fhfofgno.org/mc-events/section-504-and-transition-5?m
 c_id=999
END:VEVENT
END:VCALENDAR