BEGIN:VCALENDAR
VERSION:2.0
PRODID:spatie/icalendar-generator
DESCRIPTION:Events from Families Helping Families of Greater New Orleans
X-WR-CALDESC:Events from Families Helping Families of Greater New Orleans
REFRESH-INTERVAL;VALUE=DURATION:PT1440M
X-PUBLISHED-TTL:PT1440M
BEGIN:VTIMEZONE
TZID:America/Chicago
BEGIN:STANDARD
DTSTART:20171105T020000Z
TZOFFSETFROM:-0500
TZOFFSETTO:-0600
END:STANDARD
BEGIN:DAYLIGHT
DTSTART:20180311T020000Z
TZOFFSETFROM:-0600
TZOFFSETTO:-0500
END:DAYLIGHT
END:VTIMEZONE
BEGIN:VTIMEZONE
TZID:UTC
BEGIN:STANDARD
DTSTART:20250726T054250Z
TZOFFSETFROM:+0000
TZOFFSETTO:+0000
END:STANDARD
END:VTIMEZONE
BEGIN:VEVENT
UID:510-431
DTSTAMP:20260422T054250Z
SUMMARY:Section 504 and the Americans with Disabilities Act: After High Sch
 ool
LOCATION:
ORGANIZER;CN=Liz Dumas:MAILTO:ldumas@fhfjefferson.org
DTSTART;TZID=America/Chicago:20171213T130000
DTEND;TZID=America/Chicago:20171213T140000
X-ALT-DESC;FMTTYPE=TEXT/HTML:Section 504 and the Americans with Disabilitie
 s Act:  After High School - The Americans with Disabilities Act (ADA) and
  Section 504.  On today’s topic Section 504 and Transition we will Brid
 ge from High School to Postsecondary Services. In this webinar\, we will h
 elp you to understand the ITP process as it pertains to postsecondary educ
 ation&amp;hellip\;
CATEGORIES:Trainings
URL;VALUE=URI:https://fhfofgno.org/mc-events/section-504-and-the-americans-
 with-disabilities-act-after-high-school-3?mc_id=510
END:VEVENT
END:VCALENDAR