BEGIN:VCALENDAR
VERSION:2.0
PRODID:spatie/icalendar-generator
DESCRIPTION:Events from Families Helping Families of Greater New Orleans
X-WR-CALDESC:Events from Families Helping Families of Greater New Orleans
REFRESH-INTERVAL;VALUE=DURATION:PT1440M
X-PUBLISHED-TTL:PT1440M
BEGIN:VTIMEZONE
TZID:America/Chicago
BEGIN:STANDARD
DTSTART:20171105T020000Z
TZOFFSETFROM:-0500
TZOFFSETTO:-0600
END:STANDARD
BEGIN:DAYLIGHT
DTSTART:20180311T020000Z
TZOFFSETFROM:-0600
TZOFFSETTO:-0500
END:DAYLIGHT
END:VTIMEZONE
BEGIN:VTIMEZONE
TZID:UTC
BEGIN:STANDARD
DTSTART:20250725T153812Z
TZOFFSETFROM:+0000
TZOFFSETTO:+0000
END:STANDARD
END:VTIMEZONE
BEGIN:VEVENT
UID:585-496
DTSTAMP:20260421T153812Z
SUMMARY:Schedule's Tips and Tools for Creating Visual Schedules
LOCATION:
ORGANIZER;CN=Liz Dumas:MAILTO:ldumas@fhfjefferson.org
DTSTART;TZID=America/Chicago:20180419T123000
DTEND;TZID=America/Chicago:20180419T133000
X-ALT-DESC;FMTTYPE=TEXT/HTML:Schedule’s Tips and Tools for Creating Visua
 l Schedules – Individuals with ASD often feel lost and anxious when dail
 y activities are not clearly indicated or if the sequence of those activit
 ies is not understood.  Teachers and parents may find themselves offering
  repeated cues and high levels of support to help the individual move from
  activity&amp;hellip\;
CATEGORIES:Trainings
URL;VALUE=URI:https://fhfofgno.org/mc-events/schedules-tips-and-tools-for-c
 reating-visual-schedules?mc_id=585
END:VEVENT
END:VCALENDAR