BEGIN:VCALENDAR
VERSION:2.0
PRODID:spatie/icalendar-generator
DESCRIPTION:Events from Families Helping Families of Greater New Orleans
X-WR-CALDESC:Events from Families Helping Families of Greater New Orleans
REFRESH-INTERVAL;VALUE=DURATION:PT1440M
X-PUBLISHED-TTL:PT1440M
BEGIN:VTIMEZONE
TZID:America/Chicago
BEGIN:DAYLIGHT
DTSTART:20210314T020000Z
TZOFFSETFROM:-0600
TZOFFSETTO:-0500
END:DAYLIGHT
BEGIN:STANDARD
DTSTART:20211107T020000Z
TZOFFSETFROM:-0500
TZOFFSETTO:-0600
END:STANDARD
BEGIN:DAYLIGHT
DTSTART:20220313T020000Z
TZOFFSETFROM:-0600
TZOFFSETTO:-0500
END:DAYLIGHT
END:VTIMEZONE
BEGIN:VTIMEZONE
TZID:UTC
BEGIN:STANDARD
DTSTART:20250725T111236Z
TZOFFSETFROM:+0000
TZOFFSETTO:+0000
END:STANDARD
END:VTIMEZONE
BEGIN:VEVENT
UID:1203-1086
DTSTAMP:20260421T111236Z
SUMMARY:Resources to Help Detect Future Reading Problems and Improve Childr
 en’s Literacy Skills
LOCATION:
ORGANIZER;CN=Liz Dumas:MAILTO:ldumas@fhfjefferson.org
DTSTART;TZID=America/Chicago:20211027T120000
DTEND;TZID=America/Chicago:20211027T130000
X-ALT-DESC;FMTTYPE=TEXT/HTML:Resources to Help Detect Future Reading Proble
 ms and Improve Children’s Literacy Skills - This webinar will overview f
 ree evidence-based resources that families can use at home to track\, addr
 ess\, and support their child’s literacy development. Guest Presenter: S
 arah Sayko\, Ed.D.\, Deputy Director\, NCIL Audience: Parents\, Caregivers
 \, and Professionals of School-Aged Children/Students. To register\, click
  on&amp;hellip\;
CATEGORIES:Trainings
URL;VALUE=URI:https://fhfofgno.org/mc-events/resources-to-help-detect-futur
 e-reading-problems-and-improve-childrens-literacy-skills?mc_id=1203
END:VEVENT
END:VCALENDAR