BEGIN:VCALENDAR
VERSION:2.0
PRODID:spatie/icalendar-generator
DESCRIPTION:Events from Families Helping Families of Greater New Orleans
X-WR-CALDESC:Events from Families Helping Families of Greater New Orleans
REFRESH-INTERVAL;VALUE=DURATION:PT1440M
X-PUBLISHED-TTL:PT1440M
BEGIN:VTIMEZONE
TZID:America/Chicago
BEGIN:DAYLIGHT
DTSTART:20160313T020000Z
TZOFFSETFROM:-0600
TZOFFSETTO:-0500
END:DAYLIGHT
BEGIN:STANDARD
DTSTART:20161106T020000Z
TZOFFSETFROM:-0500
TZOFFSETTO:-0600
END:STANDARD
BEGIN:DAYLIGHT
DTSTART:20170312T020000Z
TZOFFSETFROM:-0600
TZOFFSETTO:-0500
END:DAYLIGHT
END:VTIMEZONE
BEGIN:VTIMEZONE
TZID:UTC
BEGIN:STANDARD
DTSTART:20250727T060317Z
TZOFFSETFROM:+0000
TZOFFSETTO:+0000
END:STANDARD
END:VTIMEZONE
BEGIN:VEVENT
UID:256-210
DTSTAMP:20260423T060317Z
SUMMARY:Related Services
LOCATION:
ORGANIZER;CN=Liz Dumas:MAILTO:ldumas@fhfjefferson.org
DTSTART;TZID=America/Chicago:20160928T130000
DTEND;TZID=America/Chicago:20160928T140000
X-ALT-DESC;FMTTYPE=TEXT/HTML:Children with disabilities are entitled to spe
 cial education and related services. The IEP must contain a statement of t
 he special education\, related services and supplementary aids and service
 s to be provided to the child. Participants will learn several critical el
 ements used to determine what related services a student needs. Presenter:
  Shanida Mathieu\, FHF
CATEGORIES:Trainings
URL;VALUE=URI:https://fhfofgno.org/mc-events/related-services?mc_id=256
END:VEVENT
END:VCALENDAR