BEGIN:VCALENDAR
VERSION:2.0
PRODID:spatie/icalendar-generator
DESCRIPTION:Events from Families Helping Families of Greater New Orleans
X-WR-CALDESC:Events from Families Helping Families of Greater New Orleans
REFRESH-INTERVAL;VALUE=DURATION:PT1440M
X-PUBLISHED-TTL:PT1440M
BEGIN:VTIMEZONE
TZID:America/Chicago
BEGIN:DAYLIGHT
DTSTART:20180311T020000Z
TZOFFSETFROM:-0600
TZOFFSETTO:-0500
END:DAYLIGHT
BEGIN:STANDARD
DTSTART:20181104T020000Z
TZOFFSETFROM:-0500
TZOFFSETTO:-0600
END:STANDARD
BEGIN:DAYLIGHT
DTSTART:20190310T020000Z
TZOFFSETFROM:-0600
TZOFFSETTO:-0500
END:DAYLIGHT
END:VTIMEZONE
BEGIN:VTIMEZONE
TZID:UTC
BEGIN:STANDARD
DTSTART:20250729T180713Z
TZOFFSETFROM:+0000
TZOFFSETTO:+0000
END:STANDARD
END:VTIMEZONE
BEGIN:VEVENT
UID:652-556
DTSTAMP:20260425T180713Z
SUMMARY:Procedural Safeguards: Do You Know Your Rights?
LOCATION:
ORGANIZER;CN=Liz Dumas:MAILTO:ldumas@fhfjefferson.org
DTSTART;TZID=America/Chicago:20180917T210000
DTEND;TZID=America/Chicago:20180917T220000
X-ALT-DESC;FMTTYPE=TEXT/HTML:Procedural Safeguards:  Do You Know Your Righ
 ts? - Since the first federal law dealing with the education of students w
 ith disabilities in public schools passed\, legal rights for parents has 
 been an important part of the law. These legal rights for parents general
 ly referred to as “procedural safeguards”\, are a critical component t
 o The Individuals with Disabilities&amp;hellip\;
CATEGORIES:Trainings
URL;VALUE=URI:https://fhfofgno.org/mc-events/procedural-safeguards-do-you-k
 now-your-rights-2?mc_id=652
END:VEVENT
END:VCALENDAR