BEGIN:VCALENDAR
VERSION:2.0
PRODID:spatie/icalendar-generator
DESCRIPTION:Events from Families Helping Families of Greater New Orleans
X-WR-CALDESC:Events from Families Helping Families of Greater New Orleans
REFRESH-INTERVAL;VALUE=DURATION:PT1440M
X-PUBLISHED-TTL:PT1440M
BEGIN:VTIMEZONE
TZID:America/Chicago
BEGIN:STANDARD
DTSTART:20141102T020000Z
TZOFFSETFROM:-0500
TZOFFSETTO:-0600
END:STANDARD
BEGIN:DAYLIGHT
DTSTART:20150308T020000Z
TZOFFSETFROM:-0600
TZOFFSETTO:-0500
END:DAYLIGHT
BEGIN:STANDARD
DTSTART:20151101T020000Z
TZOFFSETFROM:-0500
TZOFFSETTO:-0600
END:STANDARD
END:VTIMEZONE
BEGIN:VTIMEZONE
TZID:UTC
BEGIN:STANDARD
DTSTART:20250723T130115Z
TZOFFSETFROM:+0000
TZOFFSETTO:+0000
END:STANDARD
END:VTIMEZONE
BEGIN:VEVENT
UID:2-2
DTSTAMP:20260419T130115Z
SUMMARY:Preparing for the IEP - Webinar
LOCATION:
ORGANIZER;CN=familieshelp:MAILTO:jamie@solidwebservice.com
DTSTART;TZID=America/Chicago:20150506T110000
DTEND;TZID=America/Chicago:20150506T120000
X-ALT-DESC;FMTTYPE=TEXT/HTML:This is a workshop to help parents feel more c
 omfortable and knowledgeable in the Individualized Education Plan process.
  Goals\, short-term objectives and benchmarks will be discussed\, as well 
 as parent’s rights in the process and strategies to become effective par
 tners with your child’s providers/teachers Presenter: Shanida Mathieu\, 
 FHF of Jefferson Please register here to receive&amp;hellip\;
CATEGORIES:Trainings
URL;VALUE=URI:https://fhfofgno.org/mc-events/preparing-for-the-iep-webinar?
 mc_id=2
END:VEVENT
END:VCALENDAR