BEGIN:VCALENDAR
VERSION:2.0
PRODID:spatie/icalendar-generator
DESCRIPTION:Events from Families Helping Families of Greater New Orleans
X-WR-CALDESC:Events from Families Helping Families of Greater New Orleans
REFRESH-INTERVAL;VALUE=DURATION:PT1440M
X-PUBLISHED-TTL:PT1440M
BEGIN:VTIMEZONE
TZID:America/Chicago
BEGIN:STANDARD
DTSTART:20251102T020000Z
TZOFFSETFROM:-0500
TZOFFSETTO:-0600
END:STANDARD
BEGIN:DAYLIGHT
DTSTART:20260308T020000Z
TZOFFSETFROM:-0600
TZOFFSETTO:-0500
END:DAYLIGHT
BEGIN:STANDARD
DTSTART:20261101T020000Z
TZOFFSETFROM:-0500
TZOFFSETTO:-0600
END:STANDARD
END:VTIMEZONE
BEGIN:VTIMEZONE
TZID:UTC
BEGIN:STANDARD
DTSTART:20250725T133806Z
TZOFFSETFROM:+0000
TZOFFSETTO:+0000
END:STANDARD
END:VTIMEZONE
BEGIN:VEVENT
UID:1867-1716
DTSTAMP:20260421T133806Z
SUMMARY:Planning for Adulthood: Part 2
LOCATION:
ORGANIZER;CN=Liz Dumas:MAILTO:ldumas@fhfjefferson.org
DTSTART;TZID=America/Chicago:20260507T130000
DTEND;TZID=America/Chicago:20260507T140000
X-ALT-DESC;FMTTYPE=TEXT/HTML:Planning for Adulthood: Part 2 - In part 2 of 
 this 2-part series we will take on finances\, living independently\, healt
 hcare in adulthood and recreation and living a fulfilling life for individ
 uals with exceptionalities. Venue: Zoom Webinar Presenters: Maryury Temple
 t/Karen Scallan\,  FHF of GNO Audience: Parents\, Caregivers\, and Profes
 sionals working with students with disabilities or&amp;hellip\;
CATEGORIES:Trainings
URL;VALUE=URI:https://fhfofgno.org/mc-events/planning-for-adulthood-part-2-
 2?mc_id=1867
END:VEVENT
END:VCALENDAR