BEGIN:VCALENDAR
VERSION:2.0
PRODID:spatie/icalendar-generator
DESCRIPTION:Events from Families Helping Families of Greater New Orleans
X-WR-CALDESC:Events from Families Helping Families of Greater New Orleans
REFRESH-INTERVAL;VALUE=DURATION:PT1440M
X-PUBLISHED-TTL:PT1440M
BEGIN:VTIMEZONE
TZID:America/Chicago
BEGIN:STANDARD
DTSTART:20201101T020000Z
TZOFFSETFROM:-0500
TZOFFSETTO:-0600
END:STANDARD
BEGIN:DAYLIGHT
DTSTART:20210314T020000Z
TZOFFSETFROM:-0600
TZOFFSETTO:-0500
END:DAYLIGHT
END:VTIMEZONE
BEGIN:VTIMEZONE
TZID:UTC
BEGIN:STANDARD
DTSTART:20250725T124209Z
TZOFFSETFROM:+0000
TZOFFSETTO:+0000
END:STANDARD
END:VTIMEZONE
BEGIN:VEVENT
UID:1079-967
DTSTAMP:20260421T124209Z
SUMMARY:Navigating the IEP: Part 1
LOCATION:
ORGANIZER;CN=Liz Dumas:MAILTO:ldumas@fhfjefferson.org
DTSTART;TZID=America/Chicago:20210406T120000
DTEND;TZID=America/Chicago:20210406T130000
X-ALT-DESC;FMTTYPE=TEXT/HTML:Navigating the IEP: Part 1 - Join us for this 
 new interactive training as we navigate the different sections of the IEP.
  In part 1 of our 4 part series\, we will cover the requirements of noti
 fication to the parent for an IEP meeting\, IEP team members\, IEP excepti
 onalities\, General Student Information and Special Factors to be&amp;hellip\;
CATEGORIES:Trainings
URL;VALUE=URI:https://fhfofgno.org/mc-events/navigating-the-iep-part-1-4?mc
 _id=1079
END:VEVENT
END:VCALENDAR