BEGIN:VCALENDAR
VERSION:2.0
PRODID:spatie/icalendar-generator
DESCRIPTION:Events from Families Helping Families of Greater New Orleans
X-WR-CALDESC:Events from Families Helping Families of Greater New Orleans
REFRESH-INTERVAL;VALUE=DURATION:PT1440M
X-PUBLISHED-TTL:PT1440M
BEGIN:VTIMEZONE
TZID:America/Chicago
BEGIN:DAYLIGHT
DTSTART:20250309T020000Z
TZOFFSETFROM:-0600
TZOFFSETTO:-0500
END:DAYLIGHT
BEGIN:STANDARD
DTSTART:20251102T020000Z
TZOFFSETFROM:-0500
TZOFFSETTO:-0600
END:STANDARD
BEGIN:DAYLIGHT
DTSTART:20260308T020000Z
TZOFFSETFROM:-0600
TZOFFSETTO:-0500
END:DAYLIGHT
END:VTIMEZONE
BEGIN:VTIMEZONE
TZID:UTC
BEGIN:STANDARD
DTSTART:20250726T075620Z
TZOFFSETFROM:+0000
TZOFFSETTO:+0000
END:STANDARD
END:VTIMEZONE
BEGIN:VEVENT
UID:1783-1640
DTSTAMP:20260422T075620Z
SUMMARY:Moving from EarlySteps and Day Care to School Services
LOCATION:
ORGANIZER;CN=Liz Dumas:MAILTO:ldumas@fhfjefferson.org
DTSTART;TZID=America/Chicago:20251104T110000
DTEND;TZID=America/Chicago:20251104T120000
X-ALT-DESC;FMTTYPE=TEXT/HTML:Moving from EarlySteps and Day Care to School 
 Services - Caring for a young child with an exceptionality is already over
 whelming\, even more so when they begin their education journey. That’s 
 when even more knowledge and responsibility are required. This webinar can
  lighten the load a bit as we learn about: Moving from EarlySteps to&amp;helli
 p\;
CATEGORIES:Trainings
URL;VALUE=URI:https://fhfofgno.org/mc-events/moving-from-earlysteps-and-day
 -care-to-school-services?mc_id=1783
END:VEVENT
END:VCALENDAR