BEGIN:VCALENDAR
VERSION:2.0
PRODID:spatie/icalendar-generator
DESCRIPTION:Events from Families Helping Families of Greater New Orleans
X-WR-CALDESC:Events from Families Helping Families of Greater New Orleans
REFRESH-INTERVAL;VALUE=DURATION:PT1440M
X-PUBLISHED-TTL:PT1440M
BEGIN:VTIMEZONE
TZID:America/Chicago
BEGIN:STANDARD
DTSTART:20141102T020000Z
TZOFFSETFROM:-0500
TZOFFSETTO:-0600
END:STANDARD
BEGIN:DAYLIGHT
DTSTART:20150308T020000Z
TZOFFSETFROM:-0600
TZOFFSETTO:-0500
END:DAYLIGHT
BEGIN:STANDARD
DTSTART:20151101T020000Z
TZOFFSETFROM:-0500
TZOFFSETTO:-0600
END:STANDARD
END:VTIMEZONE
BEGIN:VTIMEZONE
TZID:UTC
BEGIN:STANDARD
DTSTART:20250728T040713Z
TZOFFSETFROM:+0000
TZOFFSETTO:+0000
END:STANDARD
END:VTIMEZONE
BEGIN:VEVENT
UID:8-7
DTSTAMP:20260424T040713Z
SUMMARY:Managing Your Child's Medical Records
LOCATION:Metairie Road Library 2350 Metairie Road  Metairie Louisiana 70001
ORGANIZER;CN=familieshelp:MAILTO:jamie@solidwebservice.com
DTSTART;TZID=America/Chicago:20150513T100000
DTEND;TZID=America/Chicago:20150513T120000
X-ALT-DESC;FMTTYPE=TEXT/HTML:Click Here to Register Online:
CATEGORIES:Office Closure
URL;VALUE=URI:https://fhfofgno.org/mc-events/managing-your-childs-medical-r
 ecords?mc_id=8
END:VEVENT
END:VCALENDAR