BEGIN:VCALENDAR
VERSION:2.0
PRODID:spatie/icalendar-generator
DESCRIPTION:Events from Families Helping Families of Greater New Orleans
X-WR-CALDESC:Events from Families Helping Families of Greater New Orleans
REFRESH-INTERVAL;VALUE=DURATION:PT1440M
X-PUBLISHED-TTL:PT1440M
BEGIN:VTIMEZONE
TZID:America/Chicago
BEGIN:DAYLIGHT
DTSTART:20170312T020000Z
TZOFFSETFROM:-0600
TZOFFSETTO:-0500
END:DAYLIGHT
BEGIN:STANDARD
DTSTART:20171105T020000Z
TZOFFSETFROM:-0500
TZOFFSETTO:-0600
END:STANDARD
BEGIN:DAYLIGHT
DTSTART:20180311T020000Z
TZOFFSETFROM:-0600
TZOFFSETTO:-0500
END:DAYLIGHT
END:VTIMEZONE
BEGIN:VTIMEZONE
TZID:UTC
BEGIN:STANDARD
DTSTART:20250729T180513Z
TZOFFSETFROM:+0000
TZOFFSETTO:+0000
END:STANDARD
END:VTIMEZONE
BEGIN:VEVENT
UID:544-457
DTSTAMP:20260425T180513Z
SUMMARY:Looking for a job?
LOCATION:
ORGANIZER;CN=Liz Dumas:MAILTO:ldumas@fhfjefferson.org
DTSTART;TZID=America/Chicago:20171206T130000
DTEND;TZID=America/Chicago:20171206T140000
X-ALT-DESC;FMTTYPE=TEXT/HTML:Looking for a job? The first thing you might 
 need is a resume. A resume is where you list information about yourself an
 d your experiences. This webinar will guide you through the process of cre
 ating a resume and some tips about what you want and don’t want to inclu
 de on a resume. Click on the link&amp;hellip\;
CATEGORIES:Office Closure
URL;VALUE=URI:https://fhfofgno.org/mc-events/looking-for-a-job?mc_id=544
END:VEVENT
END:VCALENDAR