BEGIN:VCALENDAR
VERSION:2.0
PRODID:spatie/icalendar-generator
DESCRIPTION:Events from Families Helping Families of Greater New Orleans
X-WR-CALDESC:Events from Families Helping Families of Greater New Orleans
REFRESH-INTERVAL;VALUE=DURATION:PT1440M
X-PUBLISHED-TTL:PT1440M
BEGIN:VTIMEZONE
TZID:America/Chicago
BEGIN:DAYLIGHT
DTSTART:20170312T020000Z
TZOFFSETFROM:-0600
TZOFFSETTO:-0500
END:DAYLIGHT
BEGIN:STANDARD
DTSTART:20171105T020000Z
TZOFFSETFROM:-0500
TZOFFSETTO:-0600
END:STANDARD
END:VTIMEZONE
BEGIN:VTIMEZONE
TZID:UTC
BEGIN:STANDARD
DTSTART:20250726T201954Z
TZOFFSETFROM:+0000
TZOFFSETTO:+0000
END:STANDARD
END:VTIMEZONE
BEGIN:VEVENT
UID:392-324
DTSTAMP:20260422T201954Z
SUMMARY:Let's Talk: Shopping and Healthy Foods
LOCATION:
ORGANIZER;CN=Liz Dumas:MAILTO:ldumas@fhfjefferson.org
DTSTART;TZID=America/Chicago:20170814T190000
DTEND;TZID=America/Chicago:20170814T200000
X-ALT-DESC;FMTTYPE=TEXT/HTML:Do you love eating?  We love eating too – b
 ut in order to be healthy\, we need to eat healthy.  In order to eat heal
 thy\, you need to know how to make smart choices and read labels. This web
 inar will focus on how to shop for healthy foods that are affordable so yo
 u don’t run&amp;hellip\;
CATEGORIES:Office Closure
URL;VALUE=URI:https://fhfofgno.org/mc-events/lets-talk-shopping-and-healthy
 -foods?mc_id=392
END:VEVENT
END:VCALENDAR