BEGIN:VCALENDAR
VERSION:2.0
PRODID:spatie/icalendar-generator
DESCRIPTION:Events from Families Helping Families of Greater New Orleans
X-WR-CALDESC:Events from Families Helping Families of Greater New Orleans
REFRESH-INTERVAL;VALUE=DURATION:PT1440M
X-PUBLISHED-TTL:PT1440M
BEGIN:VTIMEZONE
TZID:America/Chicago
BEGIN:STANDARD
DTSTART:20251102T020000Z
TZOFFSETFROM:-0500
TZOFFSETTO:-0600
END:STANDARD
BEGIN:DAYLIGHT
DTSTART:20260308T020000Z
TZOFFSETFROM:-0600
TZOFFSETTO:-0500
END:DAYLIGHT
END:VTIMEZONE
BEGIN:VTIMEZONE
TZID:UTC
BEGIN:STANDARD
DTSTART:20250725T165928Z
TZOFFSETFROM:+0000
TZOFFSETTO:+0000
END:STANDARD
END:VTIMEZONE
BEGIN:VEVENT
UID:1847-1697
DTSTAMP:20260421T165928Z
SUMMARY:LaCAN Regions 1 &amp;amp\; 10 Legislative Roundtable
LOCATION:
ORGANIZER;CN=Liz Dumas:MAILTO:ldumas@fhfjefferson.org
DTSTART;TZID=America/Chicago:20260306T110000
DTEND;TZID=America/Chicago:20260306T133000
X-ALT-DESC;FMTTYPE=TEXT/HTML:&amp;nbsp\;
CATEGORIES:Disability Meetings
URL;VALUE=URI:https://fhfofgno.org/mc-events/lacan-regions-1-10-legislative
 -roundtable?mc_id=1847
END:VEVENT
END:VCALENDAR