BEGIN:VCALENDAR
VERSION:2.0
PRODID:spatie/icalendar-generator
DESCRIPTION:Events from Families Helping Families of Greater New Orleans
X-WR-CALDESC:Events from Families Helping Families of Greater New Orleans
REFRESH-INTERVAL;VALUE=DURATION:PT1440M
X-PUBLISHED-TTL:PT1440M
BEGIN:VTIMEZONE
TZID:America/Chicago
BEGIN:STANDARD
DTSTART:20171105T020000Z
TZOFFSETFROM:-0500
TZOFFSETTO:-0600
END:STANDARD
BEGIN:DAYLIGHT
DTSTART:20180311T020000Z
TZOFFSETFROM:-0600
TZOFFSETTO:-0500
END:DAYLIGHT
END:VTIMEZONE
BEGIN:VTIMEZONE
TZID:UTC
BEGIN:STANDARD
DTSTART:20250726T134243Z
TZOFFSETFROM:+0000
TZOFFSETTO:+0000
END:STANDARD
END:VTIMEZONE
BEGIN:VEVENT
UID:506-427
DTSTAMP:20260422T134243Z
SUMMARY:Know Your Rights: Students with Disabilities in Charter Schools
LOCATION:
ORGANIZER;CN=Liz Dumas:MAILTO:ldumas@fhfjefferson.org
DTSTART;TZID=America/Chicago:20171208T100000
DTEND;TZID=America/Chicago:20171208T110000
X-ALT-DESC;FMTTYPE=TEXT/HTML:Know Your Rights: Students with Disabilities i
 n Charter Schools - This presentation outlines guidance issued by ED on De
 cember 28\, 2016\, to help parents\, students\, local educational agencies
  (LEA)\, state educational agencies (SEA)\, charter schools\, and others b
 etter understand the rights of students with disabilities in public charte
 r schools under Federal laws. Audience: Parents\, Caregivers\,&amp;hellip\;
CATEGORIES:Trainings
URL;VALUE=URI:https://fhfofgno.org/mc-events/know-your-rights-students-with
 -disabilities-in-charter-schools-3?mc_id=506
END:VEVENT
END:VCALENDAR