BEGIN:VCALENDAR
VERSION:2.0
PRODID:spatie/icalendar-generator
DESCRIPTION:Events from Families Helping Families of Greater New Orleans
X-WR-CALDESC:Events from Families Helping Families of Greater New Orleans
REFRESH-INTERVAL;VALUE=DURATION:PT1440M
X-PUBLISHED-TTL:PT1440M
BEGIN:VTIMEZONE
TZID:America/Chicago
BEGIN:DAYLIGHT
DTSTART:20170312T020000Z
TZOFFSETFROM:-0600
TZOFFSETTO:-0500
END:DAYLIGHT
BEGIN:STANDARD
DTSTART:20171105T020000Z
TZOFFSETFROM:-0500
TZOFFSETTO:-0600
END:STANDARD
END:VTIMEZONE
BEGIN:VTIMEZONE
TZID:UTC
BEGIN:STANDARD
DTSTART:20250726T165506Z
TZOFFSETFROM:+0000
TZOFFSETTO:+0000
END:STANDARD
END:VTIMEZONE
BEGIN:VEVENT
UID:454-377
DTSTAMP:20260422T165506Z
SUMMARY:Know your rights: Section 504
LOCATION:
ORGANIZER;CN=Liz Dumas:MAILTO:ldumas@fhfjefferson.org
DTSTART;TZID=America/Chicago:20170818T100000
DTEND;TZID=America/Chicago:20170818T110000
X-ALT-DESC;FMTTYPE=TEXT/HTML:Know your rights: Section 504 - An overview of
  how Section 504 of the Rehabilitation Act of 1973 protects all students w
 ith disabilities\, whether they have IEPs\, 504 Plans\, IAPs\, IHPs\, BIPs
 \, or no plan at all! Guest Presenter: ​ Debra Weinburge\, Managing Att
 orney\, Advocacy Center of Louisiana Audience: Parents\, Caregivers\, and 
 Professionals of School-Aged Children/Students.&amp;hellip\;
CATEGORIES:Trainings
URL;VALUE=URI:https://fhfofgno.org/mc-events/know-your-rights-section-504?m
 c_id=454
END:VEVENT
END:VCALENDAR