BEGIN:VCALENDAR
VERSION:2.0
PRODID:spatie/icalendar-generator
DESCRIPTION:Events from Families Helping Families of Greater New Orleans
X-WR-CALDESC:Events from Families Helping Families of Greater New Orleans
REFRESH-INTERVAL;VALUE=DURATION:PT1440M
X-PUBLISHED-TTL:PT1440M
BEGIN:VTIMEZONE
TZID:America/Chicago
BEGIN:DAYLIGHT
DTSTART:20240310T020000Z
TZOFFSETFROM:-0600
TZOFFSETTO:-0500
END:DAYLIGHT
BEGIN:STANDARD
DTSTART:20241103T020000Z
TZOFFSETFROM:-0500
TZOFFSETTO:-0600
END:STANDARD
BEGIN:DAYLIGHT
DTSTART:20250309T020000Z
TZOFFSETFROM:-0600
TZOFFSETTO:-0500
END:DAYLIGHT
END:VTIMEZONE
BEGIN:VTIMEZONE
TZID:UTC
BEGIN:STANDARD
DTSTART:20250726T101128Z
TZOFFSETFROM:+0000
TZOFFSETTO:+0000
END:STANDARD
END:VTIMEZONE
BEGIN:VEVENT
UID:1642-1506
DTSTAMP:20260422T101128Z
SUMMARY:Introduction to Work series\, Part 4: An Overview of Resources to S
 upport Work Skills Development
LOCATION:
ORGANIZER;CN=Liz Dumas:MAILTO:ldumas@fhfjefferson.org
DTSTART;TZID=America/Chicago:20241121T100000
DTEND;TZID=America/Chicago:20241121T110000
X-ALT-DESC;FMTTYPE=TEXT/HTML:Introduction to Work series\, Part 4: An Overv
 iew of Resources to Support Work Skills Development: In the final part of 
 this 4-part series\, we will look at a variety of resources available to a
 ssist families\, educators\, and other professionals who work with youth a
 nd young adults with disabilities to develop the skills necessary to seek\
 ,&amp;hellip\;
CATEGORIES:Trainings
URL;VALUE=URI:https://fhfofgno.org/mc-events/introduction-to-work-series-pa
 rt-4-an-overview-of-resources-to-support-work-skills-development-2?mc_id=1
 642
END:VEVENT
END:VCALENDAR