BEGIN:VCALENDAR
VERSION:2.0
PRODID:spatie/icalendar-generator
DESCRIPTION:Events from Families Helping Families of Greater New Orleans
X-WR-CALDESC:Events from Families Helping Families of Greater New Orleans
REFRESH-INTERVAL;VALUE=DURATION:PT1440M
X-PUBLISHED-TTL:PT1440M
BEGIN:VTIMEZONE
TZID:America/Chicago
BEGIN:STANDARD
DTSTART:20231105T020000Z
TZOFFSETFROM:-0500
TZOFFSETTO:-0600
END:STANDARD
BEGIN:DAYLIGHT
DTSTART:20240310T020000Z
TZOFFSETFROM:-0600
TZOFFSETTO:-0500
END:DAYLIGHT
BEGIN:STANDARD
DTSTART:20241103T020000Z
TZOFFSETFROM:-0500
TZOFFSETTO:-0600
END:STANDARD
END:VTIMEZONE
BEGIN:VTIMEZONE
TZID:UTC
BEGIN:STANDARD
DTSTART:20250725T191345Z
TZOFFSETFROM:+0000
TZOFFSETTO:+0000
END:STANDARD
END:VTIMEZONE
BEGIN:VEVENT
UID:1592-1457
DTSTAMP:20260421T191345Z
SUMMARY:Introduction to Work series\, Part 3: Skills Needed to Work Indepen
 dently
LOCATION:
ORGANIZER;CN=Liz Dumas:MAILTO:ldumas@fhfjefferson.org
DTSTART;TZID=America/Chicago:20240723T120000
DTEND;TZID=America/Chicago:20240723T130000
X-ALT-DESC;FMTTYPE=TEXT/HTML:Introduction to Work series\, Part 3: Skills N
 eeded to Work Independently -- In Part 3 of this 4-part series\, we will f
 ocus on nine key skill areas needed to find employment\, with an explanati
 on about each skill. Venue: Zoom Webinar Presenters: Sharon Blackmon\, FHF
  of GNO\; Wallace Johnson &amp;amp\; Mylinda Elliott\, FHF of SWLA Co-Host:&amp;he
 llip\;
CATEGORIES:Trainings
URL;VALUE=URI:https://fhfofgno.org/mc-events/introduction-to-work-series-pa
 rt-3-skills-needed-to-work-independently?mc_id=1592
END:VEVENT
END:VCALENDAR