BEGIN:VCALENDAR
VERSION:2.0
PRODID:spatie/icalendar-generator
DESCRIPTION:Events from Families Helping Families of Greater New Orleans
X-WR-CALDESC:Events from Families Helping Families of Greater New Orleans
REFRESH-INTERVAL;VALUE=DURATION:PT1440M
X-PUBLISHED-TTL:PT1440M
BEGIN:VTIMEZONE
TZID:America/Chicago
BEGIN:DAYLIGHT
DTSTART:20240310T020000Z
TZOFFSETFROM:-0600
TZOFFSETTO:-0500
END:DAYLIGHT
BEGIN:STANDARD
DTSTART:20241103T020000Z
TZOFFSETFROM:-0500
TZOFFSETTO:-0600
END:STANDARD
BEGIN:DAYLIGHT
DTSTART:20250309T020000Z
TZOFFSETFROM:-0600
TZOFFSETTO:-0500
END:DAYLIGHT
END:VTIMEZONE
BEGIN:VTIMEZONE
TZID:UTC
BEGIN:STANDARD
DTSTART:20250725T100634Z
TZOFFSETFROM:+0000
TZOFFSETTO:+0000
END:STANDARD
END:VTIMEZONE
BEGIN:VEVENT
UID:1636-1500
DTSTAMP:20260421T100634Z
SUMMARY:Introduction to Work series\, Part 2: Key Laws That Support Youth a
 nd Career Readiness
LOCATION:
ORGANIZER;CN=Liz Dumas:MAILTO:ldumas@fhfjefferson.org
DTSTART;TZID=America/Chicago:20241112T100000
DTEND;TZID=America/Chicago:20241112T110000
X-ALT-DESC;FMTTYPE=TEXT/HTML:Introduction to Work series\, Part 2: Key Laws
  That Support Youth and Career Readiness – Join us for Part 2 of this se
 ries\, where we will discuss the key laws that support youth and career re
 adiness. The Americans with Disabilities Act (ADA)\, Every Student Succeed
 s Act (ESSA)\, the Rehabilitation Act\, as well as the Individuals&amp;hellip\
 ;
CATEGORIES:Trainings
URL;VALUE=URI:https://fhfofgno.org/mc-events/introduction-to-work-series-pa
 rt-2-key-laws-that-support-youth-and-career-readiness-2?mc_id=1636
END:VEVENT
END:VCALENDAR