BEGIN:VCALENDAR
VERSION:2.0
PRODID:spatie/icalendar-generator
DESCRIPTION:Events from Families Helping Families of Greater New Orleans
X-WR-CALDESC:Events from Families Helping Families of Greater New Orleans
REFRESH-INTERVAL;VALUE=DURATION:PT1440M
X-PUBLISHED-TTL:PT1440M
BEGIN:VTIMEZONE
TZID:America/Chicago
BEGIN:STANDARD
DTSTART:20241103T020000Z
TZOFFSETFROM:-0500
TZOFFSETTO:-0600
END:STANDARD
BEGIN:DAYLIGHT
DTSTART:20250309T020000Z
TZOFFSETFROM:-0600
TZOFFSETTO:-0500
END:DAYLIGHT
BEGIN:STANDARD
DTSTART:20251102T020000Z
TZOFFSETFROM:-0500
TZOFFSETTO:-0600
END:STANDARD
END:VTIMEZONE
BEGIN:VTIMEZONE
TZID:UTC
BEGIN:STANDARD
DTSTART:20250727T100000Z
TZOFFSETFROM:+0000
TZOFFSETTO:+0000
END:STANDARD
END:VTIMEZONE
BEGIN:VEVENT
UID:1717-1580
DTSTAMP:20260423T100000Z
SUMMARY:Introduction to Work series\, Part 1: Key Resources and Skills to E
 nsure Career Planning Success
LOCATION:
ORGANIZER;CN=Liz Dumas:MAILTO:ldumas@fhfjefferson.org
DTSTART;TZID=America/Chicago:20250616T120000
DTEND;TZID=America/Chicago:20250616T130000
X-ALT-DESC;FMTTYPE=TEXT/HTML:Introduction to Work series\, Part 1: Key Reso
 urces and Skills to Ensure Career Planning Success - In this introduction
  to the 4-part series\, we will discuss the critical role families and pro
 fessionals can play to support youth and young adults with exceptionalitie
 s in learning work and career readiness skills for successful employment. 
 Venue: Zoom Webinar Presenter:&amp;hellip\;
CATEGORIES:Trainings
URL;VALUE=URI:https://fhfofgno.org/mc-events/introduction-to-work-series-pa
 rt-1-key-resources-and-skills-to-ensure-career-planning-success-4?mc_id=17
 17
END:VEVENT
END:VCALENDAR