BEGIN:VCALENDAR
VERSION:2.0
PRODID:spatie/icalendar-generator
DESCRIPTION:Events from Families Helping Families of Greater New Orleans
X-WR-CALDESC:Events from Families Helping Families of Greater New Orleans
REFRESH-INTERVAL;VALUE=DURATION:PT1440M
X-PUBLISHED-TTL:PT1440M
BEGIN:VTIMEZONE
TZID:America/Chicago
BEGIN:STANDARD
DTSTART:20161106T020000Z
TZOFFSETFROM:-0500
TZOFFSETTO:-0600
END:STANDARD
BEGIN:DAYLIGHT
DTSTART:20170312T020000Z
TZOFFSETFROM:-0600
TZOFFSETTO:-0500
END:DAYLIGHT
BEGIN:STANDARD
DTSTART:20171105T020000Z
TZOFFSETFROM:-0500
TZOFFSETTO:-0600
END:STANDARD
END:VTIMEZONE
BEGIN:VTIMEZONE
TZID:UTC
BEGIN:STANDARD
DTSTART:20250726T085056Z
TZOFFSETFROM:+0000
TZOFFSETTO:+0000
END:STANDARD
END:VTIMEZONE
BEGIN:VEVENT
UID:405-337
DTSTAMP:20260422T085056Z
SUMMARY:Independence and Transportation
LOCATION:Lafreniere Park Foundation Center 3000 Downs Blvd.  Metairie LA 70
 006
ORGANIZER;CN=Liz Dumas:MAILTO:ldumas@fhfjefferson.org
DTSTART;TZID=America/Chicago:20170628T100000
DTEND;TZID=America/Chicago:20170628T120000
X-ALT-DESC;FMTTYPE=TEXT/HTML:To register\, please call: 504.888.9111 Click 
 on the link below to register online!
CATEGORIES:Office Closure
URL;VALUE=URI:https://fhfofgno.org/mc-events/independence-and-transportatio
 n-2?mc_id=405
END:VEVENT
END:VCALENDAR