BEGIN:VCALENDAR
VERSION:2.0
PRODID:spatie/icalendar-generator
DESCRIPTION:Events from Families Helping Families of Greater New Orleans
X-WR-CALDESC:Events from Families Helping Families of Greater New Orleans
REFRESH-INTERVAL;VALUE=DURATION:PT1440M
X-PUBLISHED-TTL:PT1440M
BEGIN:VTIMEZONE
TZID:America/Chicago
BEGIN:STANDARD
DTSTART:20221106T020000Z
TZOFFSETFROM:-0500
TZOFFSETTO:-0600
END:STANDARD
BEGIN:DAYLIGHT
DTSTART:20230312T020000Z
TZOFFSETFROM:-0600
TZOFFSETTO:-0500
END:DAYLIGHT
BEGIN:STANDARD
DTSTART:20231105T020000Z
TZOFFSETFROM:-0500
TZOFFSETTO:-0600
END:STANDARD
END:VTIMEZONE
BEGIN:VTIMEZONE
TZID:UTC
BEGIN:STANDARD
DTSTART:20250725T201225Z
TZOFFSETFROM:+0000
TZOFFSETTO:+0000
END:STANDARD
END:VTIMEZONE
BEGIN:VEVENT
UID:1447-1319
DTSTAMP:20260421T201225Z
SUMMARY:IEPs and Behavior and Discipline - Oh My!
LOCATION:
ORGANIZER;CN=Liz Dumas:MAILTO:ldumas@fhfjefferson.org
DTSTART;TZID=America/Chicago:20230725T120000
DTEND;TZID=America/Chicago:20230725T130000
X-ALT-DESC;FMTTYPE=TEXT/HTML:IEPs and Behavior and Discipline - Oh My!  Th
 e title covers it all! In this training we will talk about the Individuali
 zed Education Program (IEP) process\, functional behavior assessments\, an
 d disciplinary issues in school. Venue: Zoom Webinar Presenters: Sharon Bl
 ackmon\, FHF of GNO\; Brenda Bares\, FHF of Acadiana Co-Host:  FHF Acadia
 na Audience:  Parents\, Caregivers\, and&amp;hellip\;
CATEGORIES:Trainings
URL;VALUE=URI:https://fhfofgno.org/mc-events/ieps-and-behavior-and-discipli
 ne-oh-my-4?mc_id=1447
END:VEVENT
END:VCALENDAR